BEGIN:VCALENDAR
VERSION:2.0
PRODID:-//CNIA 07 - ECPv6.15.13//NONSGML v1.0//EN
CALSCALE:GREGORIAN
METHOD:PUBLISH
X-ORIGINAL-URL:https://cnia.org
X-WR-CALDESC:Events for CNIA 07
REFRESH-INTERVAL;VALUE=DURATION:PT1H
X-Robots-Tag:noindex
X-PUBLISHED-TTL:PT1H
BEGIN:VTIMEZONE
TZID:America/Los_Angeles
BEGIN:DAYLIGHT
TZOFFSETFROM:-0800
TZOFFSETTO:-0700
TZNAME:PDT
DTSTART:20230312T100000
END:DAYLIGHT
BEGIN:STANDARD
TZOFFSETFROM:-0700
TZOFFSETTO:-0800
TZNAME:PST
DTSTART:20231105T090000
END:STANDARD
BEGIN:DAYLIGHT
TZOFFSETFROM:-0800
TZOFFSETTO:-0700
TZNAME:PDT
DTSTART:20240310T100000
END:DAYLIGHT
BEGIN:STANDARD
TZOFFSETFROM:-0700
TZOFFSETTO:-0800
TZNAME:PST
DTSTART:20241103T090000
END:STANDARD
BEGIN:DAYLIGHT
TZOFFSETFROM:-0800
TZOFFSETTO:-0700
TZNAME:PDT
DTSTART:20250309T100000
END:DAYLIGHT
BEGIN:STANDARD
TZOFFSETFROM:-0700
TZOFFSETTO:-0800
TZNAME:PST
DTSTART:20251102T090000
END:STANDARD
END:VTIMEZONE
BEGIN:VEVENT
DTSTART;TZID=America/Los_Angeles:20240307T190000
DTEND;TZID=America/Los_Angeles:20240307T203000
DTSTAMP:20260424T064151
CREATED:20240217T221545Z
LAST-MODIFIED:20240225T171707Z
UID:10000247-1709838000-1709843400@cnia.org
SUMMARY:Founder's Writing Discussion with Delegate (Zoom)
DESCRIPTION:Discussion regarding the questions presented by GSO for group consideration on the future of AA Founder’s writings\, such as the Big Book and Twelve & Twelve. \nJoin Zoom Meeting \nhttps://us06web.zoom.us/j/89262401871 \nMeeting ID: 892 6240 1871 \nPasscode: Service#74 \n— \nOne tap mobile \n+16699006833\,\,89262401871#\,\,\,\,*6167658516# US (San Jose)
URL:https://cnia.org/event/founders-writing-discussion-with-delegate/
CATEGORIES:Delegate Events
END:VEVENT
END:VCALENDAR