BEGIN:VCALENDAR
VERSION:2.0
PRODID:-//CNIA 07 - ECPv6.15.13//NONSGML v1.0//EN
CALSCALE:GREGORIAN
METHOD:PUBLISH
X-WR-CALNAME:CNIA 07
X-ORIGINAL-URL:https://cnia.org
X-WR-CALDESC:Events for CNIA 07
REFRESH-INTERVAL;VALUE=DURATION:PT1H
X-Robots-Tag:noindex
X-PUBLISHED-TTL:PT1H
BEGIN:VTIMEZONE
TZID:America/Los_Angeles
BEGIN:DAYLIGHT
TZOFFSETFROM:-0800
TZOFFSETTO:-0700
TZNAME:PDT
DTSTART:20210314T100000
END:DAYLIGHT
BEGIN:STANDARD
TZOFFSETFROM:-0700
TZOFFSETTO:-0800
TZNAME:PST
DTSTART:20211107T090000
END:STANDARD
BEGIN:DAYLIGHT
TZOFFSETFROM:-0800
TZOFFSETTO:-0700
TZNAME:PDT
DTSTART:20220313T100000
END:DAYLIGHT
BEGIN:STANDARD
TZOFFSETFROM:-0700
TZOFFSETTO:-0800
TZNAME:PST
DTSTART:20221106T090000
END:STANDARD
BEGIN:DAYLIGHT
TZOFFSETFROM:-0800
TZOFFSETTO:-0700
TZNAME:PDT
DTSTART:20230312T100000
END:DAYLIGHT
BEGIN:STANDARD
TZOFFSETFROM:-0700
TZOFFSETTO:-0800
TZNAME:PST
DTSTART:20231105T090000
END:STANDARD
BEGIN:DAYLIGHT
TZOFFSETFROM:-0800
TZOFFSETTO:-0700
TZNAME:PDT
DTSTART:20240310T100000
END:DAYLIGHT
BEGIN:STANDARD
TZOFFSETFROM:-0700
TZOFFSETTO:-0800
TZNAME:PST
DTSTART:20241103T090000
END:STANDARD
BEGIN:DAYLIGHT
TZOFFSETFROM:-0800
TZOFFSETTO:-0700
TZNAME:PDT
DTSTART:20250309T100000
END:DAYLIGHT
BEGIN:STANDARD
TZOFFSETFROM:-0700
TZOFFSETTO:-0800
TZNAME:PST
DTSTART:20251102T090000
END:STANDARD
BEGIN:DAYLIGHT
TZOFFSETFROM:-0800
TZOFFSETTO:-0700
TZNAME:PDT
DTSTART:20260308T100000
END:DAYLIGHT
BEGIN:STANDARD
TZOFFSETFROM:-0700
TZOFFSETTO:-0800
TZNAME:PST
DTSTART:20261101T090000
END:STANDARD
BEGIN:DAYLIGHT
TZOFFSETFROM:-0800
TZOFFSETTO:-0700
TZNAME:PDT
DTSTART:20270314T100000
END:DAYLIGHT
BEGIN:STANDARD
TZOFFSETFROM:-0700
TZOFFSETTO:-0800
TZNAME:PST
DTSTART:20271107T090000
END:STANDARD
END:VTIMEZONE
BEGIN:VEVENT
DTSTART;TZID=America/Los_Angeles:20260415T183000
DTEND;TZID=America/Los_Angeles:20260415T193000
DTSTAMP:20260420T062353
CREATED:20260305T190231Z
LAST-MODIFIED:20260305T190231Z
UID:10000836-1776277800-1776281400@cnia.org
SUMMARY:Area Accessibilities Committee Monthly Meeting
DESCRIPTION:ZOOM ID 241 626 4725
URL:https://cnia.org/event/area-accessibilities-committee-monthly-meeting/2026-04-15/
CATEGORIES:Area Committee Meetings
ORGANIZER;CN="Christine T.":MAILTO:accessibilities@cnia.org
LOCATION:
END:VEVENT
BEGIN:VEVENT
DTSTART;TZID=America/Los_Angeles:20260321T100000
DTEND;TZID=America/Los_Angeles:20260321T160000
DTSTAMP:20260420T062353
CREATED:20251023T025106Z
LAST-MODIFIED:20251023T025820Z
UID:10000751-1774087200-1774108800@cnia.org
SUMMARY:Area Committee Meeting - Hybrid **New Location for 2026**
DESCRIPTION:Virtual Meeting Details: \nhttps://us06web.zoom.us/j/98216375307\nMeeting ID: 982 1637 5307\nPasscode: 244723 \nHow to Join a Virtual Meeting
URL:https://cnia.org/event/area-committee-meeting-new-location-for-2026-2/
LOCATION:East YOLO Fellowship\, 906 Sacramento Ave\, West Sacramento\, CA\, 95605\, United States
CATEGORIES:Area Committee Meetings
END:VEVENT
BEGIN:VEVENT
DTSTART;TZID=America/Los_Angeles:20260318T183000
DTEND;TZID=America/Los_Angeles:20260318T193000
DTSTAMP:20260420T062353
CREATED:20260305T190231Z
LAST-MODIFIED:20260305T190231Z
UID:10000835-1773858600-1773862200@cnia.org
SUMMARY:Area Accessibilities Committee Monthly Meeting
DESCRIPTION:ZOOM ID 241 626 4725
URL:https://cnia.org/event/area-accessibilities-committee-monthly-meeting/2026-03-18/
CATEGORIES:Area Committee Meetings
ORGANIZER;CN="Christine T.":MAILTO:accessibilities@cnia.org
LOCATION:
END:VEVENT
BEGIN:VEVENT
DTSTART;TZID=America/Los_Angeles:20260221T100000
DTEND;TZID=America/Los_Angeles:20260221T160000
DTSTAMP:20260420T062353
CREATED:20251023T004800Z
LAST-MODIFIED:20251023T025951Z
UID:10000744-1771668000-1771689600@cnia.org
SUMMARY:Area Committee Meeting - Hybrid **New Location for 2026**
DESCRIPTION:Virtual Meeting Details: \nhttps://us06web.zoom.us/j/98216375307\nMeeting ID: 982 1637 5307\nPasscode: 244723 \nHow to Join a Virtual Meeting
URL:https://cnia.org/event/area-committee-meeting-new-location-for-2026/
LOCATION:East YOLO Fellowship\, 906 Sacramento Ave\, West Sacramento\, CA\, 95605\, United States
CATEGORIES:Area Committee Meetings
END:VEVENT
BEGIN:VEVENT
DTSTART;TZID=America/Los_Angeles:20260221T090000
DTEND;TZID=America/Los_Angeles:20260221T100000
DTSTAMP:20260420T062353
CREATED:20260120T175745Z
LAST-MODIFIED:20260130T173853Z
UID:10000769-1771664400-1771668000@cnia.org
SUMMARY:Joint Committee Communication Meeting
DESCRIPTION:Virtual Meeting Details: \n\nMeeting ID: 568 947 843\nPasscode: 1935\n\nHow to Join a Zoom Meeting
URL:https://cnia.org/event/joint-committee-communication-meeting/
CATEGORIES:Area Committee Meetings
ORGANIZER;CN="Holly J.":MAILTO:alt-delegate@cnia.org
LOCATION:
END:VEVENT
BEGIN:VEVENT
DTSTART;TZID=America/Los_Angeles:20251220T100000
DTEND;TZID=America/Los_Angeles:20251220T160000
DTSTAMP:20260420T062353
CREATED:20250107T063710Z
LAST-MODIFIED:20250920T172458Z
UID:10000494-1766224800-1766246400@cnia.org
SUMMARY:Area Planning Meeting & Potluck - Hybrid
DESCRIPTION:Virtual Meeting Details: \nhttps://us06web.zoom.us/j/98216375307\nMeeting ID: 982 1637 5307\nPasscode: 244723 \nHow to Join a Virtual Meeting
URL:https://cnia.org/event/area-planning-meeting-potluck-hybrid-2/
LOCATION:Trinity Presbyterian Church\, 1500 Park Blvd\, West Sacramento\, CA\, 95691\, United States
CATEGORIES:Area Committee Meetings
END:VEVENT
BEGIN:VEVENT
DTSTART;TZID=America/Los_Angeles:20251018T100000
DTEND;TZID=America/Los_Angeles:20251018T160000
DTSTAMP:20260420T062353
CREATED:20250107T063604Z
LAST-MODIFIED:20250910T032604Z
UID:10000493-1760781600-1760803200@cnia.org
SUMMARY:Area Committee Meeting
DESCRIPTION:Virtual Meeting Details: \nhttps://us06web.zoom.us/j/98216375307\nMeeting ID: 982 1637 5307\nPasscode: 244723 \nHow to Join a Virtual Meeting
URL:https://cnia.org/event/area-committee-meeting-3/2025-10-18/
LOCATION:Trinity Presbyterian Church\, 1500 Park Blvd\, West Sacramento\, CA\, 95691\, United States
CATEGORIES:Area Committee Meetings
END:VEVENT
BEGIN:VEVENT
DTSTART;TZID=America/Los_Angeles:20250920T100000
DTEND;TZID=America/Los_Angeles:20250920T160000
DTSTAMP:20260420T062353
CREATED:20250910T031746Z
LAST-MODIFIED:20250910T031848Z
UID:10000736-1758362400-1758384000@cnia.org
SUMMARY:Area Committee Meeting
DESCRIPTION:Virtual Meeting Details: \nhttps://us06web.zoom.us/j/98216375307\nMeeting ID: 982 1637 5307\nPasscode: 244723 \nHow to Join a Virtual Meeting \n 
URL:https://cnia.org/event/area-committee-meeting-4/
LOCATION:Trinity Presbyterian Church\, 1500 Park Blvd\, West Sacramento\, CA\, 95691\, United States
CATEGORIES:Area Committee Meetings
END:VEVENT
BEGIN:VEVENT
DTSTART;TZID=America/Los_Angeles:20250920T100000
DTEND;TZID=America/Los_Angeles:20250920T160000
DTSTAMP:20260420T062353
CREATED:20250107T063604Z
LAST-MODIFIED:20250910T032604Z
UID:10000492-1758362400-1758384000@cnia.org
SUMMARY:Area Committee Meeting
DESCRIPTION:Virtual Meeting Details: \nhttps://us06web.zoom.us/j/98216375307\nMeeting ID: 982 1637 5307\nPasscode: 244723 \nHow to Join a Virtual Meeting
URL:https://cnia.org/event/area-committee-meeting-3/2025-09-20/
LOCATION:Trinity Presbyterian Church\, 1500 Park Blvd\, West Sacramento\, CA\, 95691\, United States
CATEGORIES:Area Committee Meetings
END:VEVENT
BEGIN:VEVENT
DTSTART;TZID=America/Los_Angeles:20250816T100000
DTEND;TZID=America/Los_Angeles:20250816T160000
DTSTAMP:20260420T062353
CREATED:20250107T063604Z
LAST-MODIFIED:20250910T032604Z
UID:10000491-1755338400-1755360000@cnia.org
SUMMARY:Area Committee Meeting
DESCRIPTION:Virtual Meeting Details: \nhttps://us06web.zoom.us/j/98216375307\nMeeting ID: 982 1637 5307\nPasscode: 244723 \nHow to Join a Virtual Meeting
URL:https://cnia.org/event/area-committee-meeting-3/2025-08-16/
LOCATION:Trinity Presbyterian Church\, 1500 Park Blvd\, West Sacramento\, CA\, 95691\, United States
CATEGORIES:Area Committee Meetings
END:VEVENT
BEGIN:VEVENT
DTSTART;TZID=America/Los_Angeles:20250719T100000
DTEND;TZID=America/Los_Angeles:20250719T160000
DTSTAMP:20260420T062353
CREATED:20250107T063604Z
LAST-MODIFIED:20250910T032604Z
UID:10000490-1752919200-1752940800@cnia.org
SUMMARY:Area Committee Meeting
DESCRIPTION:Virtual Meeting Details: \nhttps://us06web.zoom.us/j/98216375307\nMeeting ID: 982 1637 5307\nPasscode: 244723 \nHow to Join a Virtual Meeting
URL:https://cnia.org/event/area-committee-meeting-3/2025-07-19/
LOCATION:Trinity Presbyterian Church\, 1500 Park Blvd\, West Sacramento\, CA\, 95691\, United States
CATEGORIES:Area Committee Meetings
END:VEVENT
BEGIN:VEVENT
DTSTART;TZID=America/Los_Angeles:20250621T100000
DTEND;TZID=America/Los_Angeles:20250621T160000
DTSTAMP:20260420T062353
CREATED:20250107T063604Z
LAST-MODIFIED:20250910T032604Z
UID:10000489-1750500000-1750521600@cnia.org
SUMMARY:Area Committee Meeting
DESCRIPTION:Virtual Meeting Details: \nhttps://us06web.zoom.us/j/98216375307\nMeeting ID: 982 1637 5307\nPasscode: 244723 \nHow to Join a Virtual Meeting
URL:https://cnia.org/event/area-committee-meeting-3/2025-06-21/
LOCATION:Trinity Presbyterian Church\, 1500 Park Blvd\, West Sacramento\, CA\, 95691\, United States
CATEGORIES:Area Committee Meetings
END:VEVENT
BEGIN:VEVENT
DTSTART;TZID=America/Los_Angeles:20250315T100000
DTEND;TZID=America/Los_Angeles:20250315T160000
DTSTAMP:20260420T062353
CREATED:20250107T063604Z
LAST-MODIFIED:20250910T032604Z
UID:10000488-1742032800-1742054400@cnia.org
SUMMARY:Area Committee Meeting
DESCRIPTION:Virtual Meeting Details: \nhttps://us06web.zoom.us/j/98216375307\nMeeting ID: 982 1637 5307\nPasscode: 244723 \nHow to Join a Virtual Meeting
URL:https://cnia.org/event/area-committee-meeting-3/2025-03-15/
LOCATION:Trinity Presbyterian Church\, 1500 Park Blvd\, West Sacramento\, CA\, 95691\, United States
CATEGORIES:Area Committee Meetings
END:VEVENT
BEGIN:VEVENT
DTSTART;TZID=America/Los_Angeles:20241214T100000
DTEND;TZID=America/Los_Angeles:20241214T160000
DTSTAMP:20260420T062353
CREATED:20240921T205330Z
LAST-MODIFIED:20241214T181247Z
UID:10000475-1734170400-1734192000@cnia.org
SUMMARY:Area Planning Meeting & Potluck
DESCRIPTION:Virtual Meeting Details: \nNEW MEETING LINK AS OF THIS MORNING 12/14/24 \nhttps://us06web.zoom.us/j/88047577771?pwd=RUpRWkNLQ3ovZ0RTdHhOQWV6Z096QT09 \nCode: 880 475 77771 \nPW: 076115 \nHow to Join a Virtual Meeting \n  \n 
URL:https://cnia.org/event/area-planning-meeting-potluck/
LOCATION:Trinity Presbyterian Church\, 1500 Park Blvd\, West Sacramento\, CA\, 95691\, United States
CATEGORIES:Area Committee Meetings
END:VEVENT
BEGIN:VEVENT
DTSTART;TZID=America/Los_Angeles:20241116T100000
DTEND;TZID=America/Los_Angeles:20241116T160000
DTSTAMP:20260420T062353
CREATED:20230715T195445Z
LAST-MODIFIED:20240921T205028Z
UID:10000144-1731751200-1731772800@cnia.org
SUMMARY:Area Committee Meeting
DESCRIPTION:Virtual Meeting Details: \nhttps://us06web.zoom.us/j/98216375307 \nMeeting ID: 982 1637 5307 \nPasscode: 244723 \nHow to Join a Virtual Meeting
URL:https://cnia.org/event/area-planning-meeting-potluck-hybrid/2024-11-16/
LOCATION:Trinity Presbyterian Church\, 1500 Park Blvd\, West Sacramento\, CA\, 95691\, United States
CATEGORIES:Area Committee Meetings
END:VEVENT
BEGIN:VEVENT
DTSTART;TZID=America/Los_Angeles:20240921T100000
DTEND;TZID=America/Los_Angeles:20240921T160000
DTSTAMP:20260420T062353
CREATED:20230715T195445Z
LAST-MODIFIED:20240921T205028Z
UID:10000142-1726912800-1726934400@cnia.org
SUMMARY:Area Committee Meeting
DESCRIPTION:Virtual Meeting Details: \nhttps://us06web.zoom.us/j/98216375307 \nMeeting ID: 982 1637 5307 \nPasscode: 244723 \nHow to Join a Virtual Meeting
URL:https://cnia.org/event/area-planning-meeting-potluck-hybrid/2024-09-21/
LOCATION:Trinity Presbyterian Church\, 1500 Park Blvd\, West Sacramento\, CA\, 95691\, United States
CATEGORIES:Area Committee Meetings
END:VEVENT
BEGIN:VEVENT
DTSTART;TZID=America/Los_Angeles:20240817T100000
DTEND;TZID=America/Los_Angeles:20240817T160000
DTSTAMP:20260420T062353
CREATED:20230715T195445Z
LAST-MODIFIED:20240921T205028Z
UID:10000141-1723888800-1723910400@cnia.org
SUMMARY:Area Committee Meeting
DESCRIPTION:Virtual Meeting Details: \nhttps://us06web.zoom.us/j/98216375307 \nMeeting ID: 982 1637 5307 \nPasscode: 244723 \nHow to Join a Virtual Meeting
URL:https://cnia.org/event/area-planning-meeting-potluck-hybrid/2024-08-17/
LOCATION:Trinity Presbyterian Church\, 1500 Park Blvd\, West Sacramento\, CA\, 95691\, United States
CATEGORIES:Area Committee Meetings
END:VEVENT
BEGIN:VEVENT
DTSTART;TZID=America/Los_Angeles:20240720T100000
DTEND;TZID=America/Los_Angeles:20240720T160000
DTSTAMP:20260420T062353
CREATED:20230715T195445Z
LAST-MODIFIED:20240921T205028Z
UID:10000140-1721469600-1721491200@cnia.org
SUMMARY:Area Committee Meeting
DESCRIPTION:Virtual Meeting Details: \nhttps://us06web.zoom.us/j/98216375307 \nMeeting ID: 982 1637 5307 \nPasscode: 244723 \nHow to Join a Virtual Meeting
URL:https://cnia.org/event/area-planning-meeting-potluck-hybrid/2024-07-20/
LOCATION:Trinity Presbyterian Church\, 1500 Park Blvd\, West Sacramento\, CA\, 95691\, United States
CATEGORIES:Area Committee Meetings
END:VEVENT
BEGIN:VEVENT
DTSTART;TZID=America/Los_Angeles:20240615T100000
DTEND;TZID=America/Los_Angeles:20240615T160000
DTSTAMP:20260420T062353
CREATED:20230715T195445Z
LAST-MODIFIED:20240921T205028Z
UID:10000139-1718445600-1718467200@cnia.org
SUMMARY:Area Committee Meeting
DESCRIPTION:Virtual Meeting Details: \nhttps://us06web.zoom.us/j/98216375307 \nMeeting ID: 982 1637 5307 \nPasscode: 244723 \nHow to Join a Virtual Meeting
URL:https://cnia.org/event/area-planning-meeting-potluck-hybrid/2024-06-15/
LOCATION:Trinity Presbyterian Church\, 1500 Park Blvd\, West Sacramento\, CA\, 95691\, United States
CATEGORIES:Area Committee Meetings
END:VEVENT
BEGIN:VEVENT
DTSTART;TZID=America/Los_Angeles:20240316T100000
DTEND;TZID=America/Los_Angeles:20240316T160000
DTSTAMP:20260420T062353
CREATED:20230715T195445Z
LAST-MODIFIED:20240921T205028Z
UID:10000136-1710583200-1710604800@cnia.org
SUMMARY:Area Committee Meeting
DESCRIPTION:Virtual Meeting Details: \nhttps://us06web.zoom.us/j/98216375307 \nMeeting ID: 982 1637 5307 \nPasscode: 244723 \nHow to Join a Virtual Meeting
URL:https://cnia.org/event/area-planning-meeting-potluck-hybrid/2024-03-16/
LOCATION:Trinity Presbyterian Church\, 1500 Park Blvd\, West Sacramento\, CA\, 95691\, United States
CATEGORIES:Area Committee Meetings
END:VEVENT
BEGIN:VEVENT
DTSTART;TZID=America/Los_Angeles:20240217T100000
DTEND;TZID=America/Los_Angeles:20240217T160000
DTSTAMP:20260420T062353
CREATED:20230715T195445Z
LAST-MODIFIED:20240921T205028Z
UID:10000135-1708164000-1708185600@cnia.org
SUMMARY:Area Committee Meeting
DESCRIPTION:Virtual Meeting Details: \nhttps://us06web.zoom.us/j/98216375307 \nMeeting ID: 982 1637 5307 \nPasscode: 244723 \nHow to Join a Virtual Meeting
URL:https://cnia.org/event/area-planning-meeting-potluck-hybrid/2024-02-17/
LOCATION:Trinity Presbyterian Church\, 1500 Park Blvd\, West Sacramento\, CA\, 95691\, United States
CATEGORIES:Area Committee Meetings
END:VEVENT
BEGIN:VEVENT
DTSTART;TZID=America/Los_Angeles:20231216T100000
DTEND;TZID=America/Los_Angeles:20231216T160000
DTSTAMP:20260420T062353
CREATED:20230402T193807Z
LAST-MODIFIED:20230402T193810Z
UID:10000023-1702720800-1702742400@cnia.org
SUMMARY:Area Planning Meeting & Potluck (Hybrid)
DESCRIPTION:Virtual Meeting Details: \nhttps://us06web.zoom.us/j/98216375307 \nMeeting ID: 982 1637 5307 \nPasscode: 244723 \nHow to Join a Virtual Meeting
URL:https://cnia.org/event/area-committe-meeting-2-2/
LOCATION:Trinity Presbyterian Church\, 1500 Park Blvd\, West Sacramento\, CA\, 95691\, United States
CATEGORIES:Area Committee Meetings
END:VEVENT
BEGIN:VEVENT
DTSTART;TZID=America/Los_Angeles:20231021T100000
DTEND;TZID=America/Los_Angeles:20231021T100000
DTSTAMP:20260420T062353
CREATED:20240225T173701Z
LAST-MODIFIED:20240225T173725Z
UID:10000163-1697882400-1697882400@cnia.org
SUMMARY:EXPIRED Area Committee Meeting (Hybrid)
DESCRIPTION:Virtual Meeting Details: \nhttps://us06web.zoom.us/j/98216375307 \nMeeting ID: 982 1637 5307 \nPasscode: 244723 \nHow to Join a Virtual Meeting
URL:https://cnia.org/event/area-committee-meeting-2-2/
LOCATION:Trinity Presbyterian Church\, 1500 Park Blvd\, West Sacramento\, CA\, 95691\, United States
CATEGORIES:Area Committee Meetings
END:VEVENT
BEGIN:VEVENT
DTSTART;TZID=America/Los_Angeles:20230916T100000
DTEND;TZID=America/Los_Angeles:20230916T100000
DTSTAMP:20260420T062353
CREATED:20230829T015339Z
LAST-MODIFIED:20230829T015343Z
UID:10000155-1694858400-1694858400@cnia.org
SUMMARY:Area Committee Meeting (Hybrid)
DESCRIPTION:Virtual Meeting Details: \nhttps://us06web.zoom.us/j/98216375307 \nMeeting ID: 982 1637 5307 \nPasscode: 244723 \nHow to Join a Virtual Meeting
URL:https://cnia.org/event/area-committee-meeting-2/2023-09-16/
LOCATION:Trinity Presbyterian Church\, 1500 Park Blvd\, West Sacramento\, CA\, 95691\, United States
CATEGORIES:Area Committee Meetings
END:VEVENT
BEGIN:VEVENT
DTSTART;TZID=America/Los_Angeles:20230819T100000
DTEND;TZID=America/Los_Angeles:20230819T100000
DTSTAMP:20260420T062353
CREATED:20230801T010711Z
LAST-MODIFIED:20240225T173553Z
UID:10000154-1692439200-1692439200@cnia.org
SUMMARY:EXPIRED Area Committee Meeting
DESCRIPTION:Virtual Meeting Details: \nhttps://us06web.zoom.us/j/98216375307 \nMeeting ID: 982 1637 5307 \nPasscode: 244723 \nHow to Join a Virtual Meeting
URL:https://cnia.org/event/area-committee-meeting/
LOCATION:Trinity Presbyterian Church\, 1500 Park Blvd\, West Sacramento\, CA\, 95691\, United States
CATEGORIES:Area Committee Meetings
END:VEVENT
BEGIN:VEVENT
DTSTART;TZID=America/Los_Angeles:20221217T100000
DTEND;TZID=America/Los_Angeles:20221217T160000
DTSTAMP:20260420T062353
CREATED:20240225T173517Z
LAST-MODIFIED:20240225T173520Z
UID:10000011-1671271200-1671292800@cnia.org
SUMMARY:EXPIRED Area Committee Meeting (Hybrid)
DESCRIPTION:Zoom link to be shared soon.
URL:https://cnia.org/event/area-committe-meeting-2/
LOCATION:Trinity Presbyterian Church\, 1500 Park Blvd\, West Sacramento\, CA\, 95691\, United States
CATEGORIES:Area Committee Meetings
END:VEVENT
BEGIN:VEVENT
DTSTART;TZID=America/Los_Angeles:20221119T100000
DTEND;TZID=America/Los_Angeles:20221119T160000
DTSTAMP:20260420T062353
CREATED:20220814T202507Z
LAST-MODIFIED:20230212T204952Z
UID:10000010-1668852000-1668873600@cnia.org
SUMMARY:Area Committee Meeting (Hybrid)
DESCRIPTION:Zoom link to be shared soon.
URL:https://cnia.org/event/area-committe-meeting/2022-11-19/
LOCATION:Trinity Presbyterian Church\, 1500 Park Blvd\, West Sacramento\, CA\, 95691\, United States
CATEGORIES:Area Committee Meetings
END:VEVENT
BEGIN:VEVENT
DTSTART;TZID=America/Los_Angeles:20221015T100000
DTEND;TZID=America/Los_Angeles:20221015T160000
DTSTAMP:20260420T062353
CREATED:20220814T202507Z
LAST-MODIFIED:20230212T204952Z
UID:10000009-1665828000-1665849600@cnia.org
SUMMARY:Area Committee Meeting (Hybrid)
DESCRIPTION:Zoom link to be shared soon.
URL:https://cnia.org/event/area-committe-meeting/2022-10-15/
LOCATION:Trinity Presbyterian Church\, 1500 Park Blvd\, West Sacramento\, CA\, 95691\, United States
CATEGORIES:Area Committee Meetings
END:VEVENT
BEGIN:VEVENT
DTSTART;TZID=America/Los_Angeles:20220917T100000
DTEND;TZID=America/Los_Angeles:20220917T160000
DTSTAMP:20260420T062353
CREATED:20220814T202507Z
LAST-MODIFIED:20230212T204952Z
UID:10000008-1663408800-1663430400@cnia.org
SUMMARY:Area Committee Meeting (Hybrid)
DESCRIPTION:Zoom link to be shared soon.
URL:https://cnia.org/event/area-committe-meeting/2022-09-17/
LOCATION:Trinity Presbyterian Church\, 1500 Park Blvd\, West Sacramento\, CA\, 95691\, United States
CATEGORIES:Area Committee Meetings
END:VEVENT
BEGIN:VEVENT
DTSTART;TZID=America/Los_Angeles:20220820T100000
DTEND;TZID=America/Los_Angeles:20220820T160000
DTSTAMP:20260420T062353
CREATED:20220814T202507Z
LAST-MODIFIED:20230212T204952Z
UID:10000004-1660989600-1661011200@cnia.org
SUMMARY:Area Committee Meeting (Hybrid)
DESCRIPTION:Zoom link to be shared soon.
URL:https://cnia.org/event/area-committe-meeting/2022-08-20/
LOCATION:Trinity Presbyterian Church\, 1500 Park Blvd\, West Sacramento\, CA\, 95691\, United States
CATEGORIES:Area Committee Meetings
END:VEVENT
END:VCALENDAR