BEGIN:VCALENDAR
VERSION:2.0
PRODID:-//CNIA 07 - ECPv6.15.13//NONSGML v1.0//EN
CALSCALE:GREGORIAN
METHOD:PUBLISH
X-ORIGINAL-URL:https://cnia.org
X-WR-CALDESC:Events for CNIA 07
REFRESH-INTERVAL;VALUE=DURATION:PT1H
X-Robots-Tag:noindex
X-PUBLISHED-TTL:PT1H
BEGIN:VTIMEZONE
TZID:America/Los_Angeles
BEGIN:DAYLIGHT
TZOFFSETFROM:-0800
TZOFFSETTO:-0700
TZNAME:PDT
DTSTART:20220313T100000
END:DAYLIGHT
BEGIN:STANDARD
TZOFFSETFROM:-0700
TZOFFSETTO:-0800
TZNAME:PST
DTSTART:20221106T090000
END:STANDARD
BEGIN:DAYLIGHT
TZOFFSETFROM:-0800
TZOFFSETTO:-0700
TZNAME:PDT
DTSTART:20230312T100000
END:DAYLIGHT
BEGIN:STANDARD
TZOFFSETFROM:-0700
TZOFFSETTO:-0800
TZNAME:PST
DTSTART:20231105T090000
END:STANDARD
BEGIN:DAYLIGHT
TZOFFSETFROM:-0800
TZOFFSETTO:-0700
TZNAME:PDT
DTSTART:20240310T100000
END:DAYLIGHT
BEGIN:STANDARD
TZOFFSETFROM:-0700
TZOFFSETTO:-0800
TZNAME:PST
DTSTART:20241103T090000
END:STANDARD
BEGIN:DAYLIGHT
TZOFFSETFROM:-0800
TZOFFSETTO:-0700
TZNAME:PDT
DTSTART:20250309T100000
END:DAYLIGHT
BEGIN:STANDARD
TZOFFSETFROM:-0700
TZOFFSETTO:-0800
TZNAME:PST
DTSTART:20251102T090000
END:STANDARD
BEGIN:DAYLIGHT
TZOFFSETFROM:-0800
TZOFFSETTO:-0700
TZNAME:PDT
DTSTART:20260308T100000
END:DAYLIGHT
BEGIN:STANDARD
TZOFFSETFROM:-0700
TZOFFSETTO:-0800
TZNAME:PST
DTSTART:20261101T090000
END:STANDARD
END:VTIMEZONE
BEGIN:VEVENT
DTSTART;TZID=America/Los_Angeles:20250719T160000
DTEND;TZID=America/Los_Angeles:20250719T180000
DTSTAMP:20260420T095224
CREATED:20250614T172624Z
LAST-MODIFIED:20250714T234927Z
UID:10000658-1752940800-1752948000@cnia.org
SUMMARY:Archives Evening Drop-In
DESCRIPTION:
URL:https://cnia.org/event/archived-drop-in-after-acm/
LOCATION:2251 Florin Rd #93\, Sacramento\, CA 95822\, 2251 Florin Rd #93\, Sacramento\, CA\, 95822\, United States
CATEGORIES:Area Events
END:VEVENT
BEGIN:VEVENT
DTSTART;TZID=America/Los_Angeles:20250614T100000
DTEND;TZID=America/Los_Angeles:20250614T140000
DTSTAMP:20260420T095224
CREATED:20250513T052019Z
LAST-MODIFIED:20250614T172711Z
UID:10000642-1749895200-1749909600@cnia.org
SUMMARY:Archives Soft Re-Opening
DESCRIPTION:ARCHIVES WILL REOPEN JUNE 14th. Please contact Archives with any questions at archives@cnia.org. \nThe new Archives address is 2251 Florin Rd #93\, Sacramento\, CA 95822
URL:https://cnia.org/event/archives-open-please-contact-prior/
LOCATION:2251 Florin Rd #93\, Sacramento\, CA 95822\, 2251 Florin Rd #93\, Sacramento\, CA\, 95822\, United States
CATEGORIES:Area Events
END:VEVENT
BEGIN:VEVENT
DTSTART;TZID=America/Los_Angeles:20250421T190000
DTEND;TZID=America/Los_Angeles:20250421T203000
DTSTAMP:20260420T095224
CREATED:20250324T002309Z
LAST-MODIFIED:20250403T222025Z
UID:10000579-1745262000-1745267400@cnia.org
SUMMARY:CNIA Treasurer/Finance Committee Workshop
DESCRIPTION:7th Tradition and Best Practices for Spending & Being a Treasurer \nZoom ID: 822 7582 1306\nPW: 040765
URL:https://cnia.org/event/cnia-treasurer-finance-committee-workshop-2/
CATEGORIES:Area Events
END:VEVENT
BEGIN:VEVENT
DTSTART;TZID=America/Los_Angeles:20250403T191500
DTEND;TZID=America/Los_Angeles:20250403T201500
DTSTAMP:20260420T095224
CREATED:20250324T002223Z
LAST-MODIFIED:20250403T221900Z
UID:10000578-1743707700-1743711300@cnia.org
SUMMARY:CNIA Treasurer/Finance Committee Workshop
DESCRIPTION:7th Tradition and Best Practices for Spending & Being a Treasurer \nZoom ID: 822 7582 1306 \nPW: 040765
URL:https://cnia.org/event/cnia-treasurer-finance-committee-workshop/
CATEGORIES:Area Events
END:VEVENT
BEGIN:VEVENT
DTSTART;TZID=America/Los_Angeles:20250326T190000
DTEND;TZID=America/Los_Angeles:20250326T203000
DTSTAMP:20260420T095224
CREATED:20250315T223813Z
LAST-MODIFIED:20250320T035622Z
UID:10000577-1743015600-1743021000@cnia.org
SUMMARY:PRAASA Sharing Session ONLINE
DESCRIPTION:Hear shares from  Area 07 members who attended PRAASA. \nZoom ID: 824-6091-1339\nPassword: 403834
URL:https://cnia.org/event/praasa-sharing-session-online/
CATEGORIES:Area Events
END:VEVENT
BEGIN:VEVENT
DTSTART;TZID=America/Los_Angeles:20250301T130000
DTEND;TZID=America/Los_Angeles:20250301T140000
DTSTAMP:20260420T095224
CREATED:20250126T204235Z
LAST-MODIFIED:20250126T204318Z
UID:10000500-1740834000-1740837600@cnia.org
SUMMARY:GSR School - Dist 19
DESCRIPTION:518 12th St Marysville \nContact alt-chair@cnia.org with any questions.
URL:https://cnia.org/event/gsr-school-dist-19/
CATEGORIES:Area Events
END:VEVENT
BEGIN:VEVENT
DTSTART;TZID=America/Los_Angeles:20241008T190000
DTEND;TZID=America/Los_Angeles:20241008T200000
DTSTAMP:20260420T095224
CREATED:20240918T061238Z
LAST-MODIFIED:20240918T061238Z
UID:10000472-1728414000-1728417600@cnia.org
SUMMARY:Area 07 Spending Plan 2025 Discussion & Input Sessions - Online
DESCRIPTION:What is a spending plan\, how do we support Area Service and help others? \nView all the Draft 2025 Spending Plan documents here \nZoom Meeting ID: 871 0864 3475 Passcode: 1935
URL:https://cnia.org/event/area-07-spending-plan-2025-discussion-input-sessions-online-2/
CATEGORIES:Area Events
END:VEVENT
BEGIN:VEVENT
DTSTART;TZID=America/Los_Angeles:20241002T180000
DTEND;TZID=America/Los_Angeles:20241002T190000
DTSTAMP:20260420T095224
CREATED:20240918T061239Z
LAST-MODIFIED:20240918T061239Z
UID:10000473-1727892000-1727895600@cnia.org
SUMMARY:Area 07 Spending Plan 2025 Discussion & Input Sessions - Online
DESCRIPTION:What is a spending plan\, how do we support Area Service and help others? \nView all the Draft 2025 Spending Plan documents here \nZoom Meeting ID: 871 0864 3475 Passcode: 1935
URL:https://cnia.org/event/area-07-spending-plan-2025-discussion-input-sessions-online-3/
CATEGORIES:Area Events
END:VEVENT
BEGIN:VEVENT
DTSTART;TZID=America/Los_Angeles:20240926T191500
DTEND;TZID=America/Los_Angeles:20240926T201500
DTSTAMP:20260420T095224
CREATED:20240918T061055Z
LAST-MODIFIED:20240918T061055Z
UID:10000471-1727378100-1727381700@cnia.org
SUMMARY:Area 07 Spending Plan 2025 Discussion & Input Sessions - Online
DESCRIPTION:What is a spending plan\, how do we support Area Service and help others? \nView all the Draft 2025 Spending Plan documents here \nZoom Meeting ID: 871 0864 3475 Passcode: 1935
URL:https://cnia.org/event/area-07-spending-plan-2025-discussion-input-sessions-online/
CATEGORIES:Area Events
END:VEVENT
BEGIN:VEVENT
DTSTART;TZID=America/Los_Angeles:20240905T191500
DTEND;TZID=America/Los_Angeles:20240905T210000
DTSTAMP:20260420T095224
CREATED:20240820T024819Z
LAST-MODIFIED:20240820T025113Z
UID:10000468-1725563700-1725570000@cnia.org
SUMMARY:2025 Draft Spending Plan Discussion - Final
DESCRIPTION:View all the Draft 2025 Spending Plan documents here \nZoom Meeting ID: 871 0864 3475\nPasscode: 1935 \n 
URL:https://cnia.org/event/2025-draft-spending-plan-discussion-final/
CATEGORIES:Area Events
END:VEVENT
BEGIN:VEVENT
DTSTART;TZID=America/Los_Angeles:20240829T191500
DTEND;TZID=America/Los_Angeles:20240829T210000
DTSTAMP:20260420T095224
CREATED:20240820T025443Z
LAST-MODIFIED:20240820T031319Z
UID:10000469-1724958900-1724965200@cnia.org
SUMMARY:2025 Draft Spending Plan Discussion - 2nd of 3
DESCRIPTION:View all the Draft 2025 Spending Plan documents here \nZoom Meeting ID: 871 0864 3475\nPasscode: 1935 \nUpcoming:\n-Thursday\, Sept 5th 715pm
URL:https://cnia.org/event/2025-draft-spending-plan-discussion-2nd-of-3/
CATEGORIES:Area Events
END:VEVENT
BEGIN:VEVENT
DTSTART;TZID=America/Los_Angeles:20240827T180000
DTEND;TZID=America/Los_Angeles:20240827T200000
DTSTAMP:20260420T095224
CREATED:20240820T025554Z
LAST-MODIFIED:20240820T031240Z
UID:10000470-1724781600-1724788800@cnia.org
SUMMARY:2025 Draft Spending Plan Discussion - 1st of 3
DESCRIPTION:View all the Draft 2025 Spending Plan documents here \nZoom Meeting ID: 871 0864 3475\nPasscode: 1935 \nUpcoming:\n-Thursday\, August 29th 715pm\n-Thursday\, Sept 5th 715pm
URL:https://cnia.org/event/2025-draft-spending-plan-discussion-1st-of-3/
CATEGORIES:Area Events
END:VEVENT
BEGIN:VEVENT
DTSTART;TZID=America/Los_Angeles:20240721T110000
DTEND;TZID=America/Los_Angeles:20240721T150000
DTSTAMP:20260420T095224
CREATED:20240626T054809Z
LAST-MODIFIED:20240626T054809Z
UID:10000456-1721559600-1721574000@cnia.org
SUMMARY:AA Grapevine 80th Birthday Party - Modesto
DESCRIPTION:See flyer below for details.
URL:https://cnia.org/event/aa-grapevine-80th-birthday-party-modesto/
CATEGORIES:Area Events
END:VEVENT
BEGIN:VEVENT
DTSTART;TZID=America/Los_Angeles:20240511T100000
DTEND;TZID=America/Los_Angeles:20240511T140000
DTSTAMP:20260420T095224
CREATED:20240412T212513Z
LAST-MODIFIED:20240418T011249Z
UID:10000319-1715421600-1715436000@cnia.org
SUMMARY:CNIA 07 Archives Open - Contact Prior to Visiting
DESCRIPTION:Please contact the Archives Chair PRIOR to visiting our Archives location.  Thank you \narchives@cnia.org
URL:https://cnia.org/event/cnia-07-archives-open-2-2-2/
LOCATION:CNIA 07 Archives\, 1807 Navy Drive\, Suite 11\, Stockton\, CA\, 95206\, United States
CATEGORIES:Area Events
END:VEVENT
BEGIN:VEVENT
DTSTART;TZID=America/Los_Angeles:20240424T190000
DTEND;TZID=America/Los_Angeles:20240424T200000
DTSTAMP:20260420T095224
CREATED:20240317T053714Z
LAST-MODIFIED:20240317T062152Z
UID:10000294-1713985200-1713988800@cnia.org
SUMMARY:CNIA 07 Monthly Grapevine/La Viña Meeting
DESCRIPTION:CNIA 07 Monthly Grapvine/La Viña Meeting \nLast Wednesday of every month 7:00 PM PST\nZoom Link: https://meet.google.com/hao-mhwo-juc?hs=122&authuser=0\nPhone: ‪+1 516-744-1292‬ PIN: ‪549 282 071#‬
URL:https://cnia.org/event/cnia-07-monthly-grapvine-la-vina-meeting/2024-04-24/
CATEGORIES:Area Events
END:VEVENT
BEGIN:VEVENT
DTSTART;TZID=America/Los_Angeles:20240420T100000
DTEND;TZID=America/Los_Angeles:20240420T140000
DTSTAMP:20260420T095224
CREATED:20240222T032442Z
LAST-MODIFIED:20240316T212539Z
UID:10000271-1713607200-1713621600@cnia.org
SUMMARY:CNIA 07 Archives Open
DESCRIPTION:Stop by and visit Archives.
URL:https://cnia.org/event/cnia-07-archives-open-2/
LOCATION:CNIA 07 Archives\, 1807 Navy Drive\, Suite 11\, Stockton\, CA\, 95206\, United States
CATEGORIES:Area Events
END:VEVENT
BEGIN:VEVENT
DTSTART;TZID=America/Los_Angeles:20240327T190000
DTEND;TZID=America/Los_Angeles:20240327T200000
DTSTAMP:20260420T095224
CREATED:20240317T053714Z
LAST-MODIFIED:20240317T062152Z
UID:10000293-1711566000-1711569600@cnia.org
SUMMARY:CNIA 07 Monthly Grapevine/La Viña Meeting
DESCRIPTION:CNIA 07 Monthly Grapvine/La Viña Meeting \nLast Wednesday of every month 7:00 PM PST\nZoom Link: https://meet.google.com/hao-mhwo-juc?hs=122&authuser=0\nPhone: ‪+1 516-744-1292‬ PIN: ‪549 282 071#‬
URL:https://cnia.org/event/cnia-07-monthly-grapvine-la-vina-meeting/2024-03-27/
CATEGORIES:Area Events
END:VEVENT
BEGIN:VEVENT
DTSTART;TZID=America/Los_Angeles:20240309T100000
DTEND;TZID=America/Los_Angeles:20240309T140000
DTSTAMP:20260420T095224
CREATED:20240222T032318Z
LAST-MODIFIED:20240222T032318Z
UID:10000255-1709978400-1709992800@cnia.org
SUMMARY:CNIA 07 Archives Open
DESCRIPTION:Stop by and visit Archives.
URL:https://cnia.org/event/cnia-07-archives-open/
LOCATION:CNIA 07 Archives\, 1807 Navy Drive\, Suite 11\, Stockton\, CA\, 95206\, United States
CATEGORIES:Area Events
END:VEVENT
BEGIN:VEVENT
DTSTART;TZID=America/Los_Angeles:20240210T080000
DTEND;TZID=America/Los_Angeles:20240210T170000
DTSTAMP:20260420T095224
CREATED:20240202T055321Z
LAST-MODIFIED:20240202T055321Z
UID:10000236-1707552000-1707584400@cnia.org
SUMMARY:Plain Language Big Book Informational Session - Zoom
DESCRIPTION:Hosted by Areas 18\, 58\, 72 & 92 \n11:00am PST / 12:00pm MST \nZoom ID: 874 5807 5405     Password: 459079 \nLink: tinurl.com/plbbis \nSpanish and ASL Interpretation Provided
URL:https://cnia.org/event/plain-language-big-book-informational-session-zoom/
CATEGORIES:Area Events,Regional & GSO Events
END:VEVENT
BEGIN:VEVENT
DTSTART;TZID=America/Los_Angeles:20231223T100000
DTEND;TZID=America/Los_Angeles:20231223T140000
DTSTAMP:20260420T095224
CREATED:20230715T140920Z
LAST-MODIFIED:20230715T140920Z
UID:10000126-1703325600-1703340000@cnia.org
SUMMARY:CNIA 07 Archives
DESCRIPTION:
URL:https://cnia.org/event/cnia-07-archives-10/
LOCATION:CNIA 07 Archives\, 1807 Navy Drive\, Suite 11\, Stockton\, CA\, 95206\, United States
CATEGORIES:Area Events
ORGANIZER;CN="Nancy K.":MAILTO:archives@cnia.org
END:VEVENT
BEGIN:VEVENT
DTSTART;TZID=America/Los_Angeles:20231118T100000
DTEND;TZID=America/Los_Angeles:20231118T140000
DTSTAMP:20260420T095224
CREATED:20230715T140843Z
LAST-MODIFIED:20230715T140843Z
UID:10000125-1700301600-1700316000@cnia.org
SUMMARY:CNIA 07 Archives
DESCRIPTION:
URL:https://cnia.org/event/cnia-07-archives-9/
LOCATION:CNIA 07 Archives\, 1807 Navy Drive\, Suite 11\, Stockton\, CA\, 95206\, United States
CATEGORIES:Area Events
ORGANIZER;CN="Nancy K.":MAILTO:archives@cnia.org
END:VEVENT
BEGIN:VEVENT
DTSTART;TZID=America/Los_Angeles:20231104T100000
DTEND;TZID=America/Los_Angeles:20231104T140000
DTSTAMP:20260420T095224
CREATED:20230715T140801Z
LAST-MODIFIED:20230715T140801Z
UID:10000124-1699092000-1699106400@cnia.org
SUMMARY:CNIA 07 Archives
DESCRIPTION:
URL:https://cnia.org/event/cnia-07-archives-8/
LOCATION:CNIA 07 Archives\, 1807 Navy Drive\, Suite 11\, Stockton\, CA\, 95206\, United States
CATEGORIES:Area Events
ORGANIZER;CN="Nancy K.":MAILTO:archives@cnia.org
END:VEVENT
BEGIN:VEVENT
DTSTART;TZID=America/Los_Angeles:20231028T100000
DTEND;TZID=America/Los_Angeles:20231028T140000
DTSTAMP:20260420T095224
CREATED:20230715T140717Z
LAST-MODIFIED:20230715T140717Z
UID:10000123-1698487200-1698501600@cnia.org
SUMMARY:CNIA 07 Archives
DESCRIPTION:
URL:https://cnia.org/event/cnia-07-archives-7/
LOCATION:CNIA 07 Archives\, 1807 Navy Drive\, Suite 11\, Stockton\, CA\, 95206\, United States
CATEGORIES:Area Events
ORGANIZER;CN="Nancy K.":MAILTO:archives@cnia.org
END:VEVENT
BEGIN:VEVENT
DTSTART;TZID=America/Los_Angeles:20231007T100000
DTEND;TZID=America/Los_Angeles:20231007T140000
DTSTAMP:20260420T095224
CREATED:20230715T140635Z
LAST-MODIFIED:20230715T140635Z
UID:10000122-1696672800-1696687200@cnia.org
SUMMARY:CNIA 07 Archives
DESCRIPTION:
URL:https://cnia.org/event/cnia-07-archives-6/
LOCATION:CNIA 07 Archives\, 1807 Navy Drive\, Suite 11\, Stockton\, CA\, 95206\, United States
CATEGORIES:Area Events
ORGANIZER;CN="Nancy K.":MAILTO:archives@cnia.org
END:VEVENT
BEGIN:VEVENT
DTSTART;TZID=America/Los_Angeles:20230930T100000
DTEND;TZID=America/Los_Angeles:20230930T140000
DTSTAMP:20260420T095224
CREATED:20230715T140546Z
LAST-MODIFIED:20230715T140546Z
UID:10000121-1696068000-1696082400@cnia.org
SUMMARY:CNIA 07 Archives
DESCRIPTION:
URL:https://cnia.org/event/cnia-07-archives-5/
LOCATION:CNIA 07 Archives\, 1807 Navy Drive\, Suite 11\, Stockton\, CA\, 95206\, United States
CATEGORIES:Area Events
ORGANIZER;CN="Nancy K.":MAILTO:archives@cnia.org
END:VEVENT
BEGIN:VEVENT
DTSTART;TZID=America/Los_Angeles:20230919T180000
DTEND;TZID=America/Los_Angeles:20230919T190000
DTSTAMP:20260420T095224
CREATED:20230919T233349Z
LAST-MODIFIED:20230919T233515Z
UID:10000170-1695146400-1695150000@cnia.org
SUMMARY:GSR School (Canceled\, pending reschedule)
DESCRIPTION:Unfortunately\, tonight’s GSR School session is canceled. \nWe will reschedule with a new date soon.
URL:https://cnia.org/event/gsr-school-2/
CATEGORIES:Area Events
END:VEVENT
BEGIN:VEVENT
DTSTART;TZID=America/Los_Angeles:20230911T180000
DTEND;TZID=America/Los_Angeles:20230911T190000
DTSTAMP:20260420T095224
CREATED:20230822T012818Z
LAST-MODIFIED:20230822T131153Z
UID:10000169-1694455200-1694458800@cnia.org
SUMMARY:GSR School
DESCRIPTION:Register here at SignUpGenius \nZoom URL: https://us06web.zoom.us/j/81807873398\nMeeting ID: 818 0787 3398\nPasscode: 679127 \nSpanish interpretation will be available!
URL:https://cnia.org/event/gsr-school/2023-09-11/
CATEGORIES:Area Events
END:VEVENT
BEGIN:VEVENT
DTSTART;TZID=America/Los_Angeles:20230905T180000
DTEND;TZID=America/Los_Angeles:20230905T190000
DTSTAMP:20260420T095224
CREATED:20230822T012818Z
LAST-MODIFIED:20230822T131153Z
UID:10000168-1693936800-1693940400@cnia.org
SUMMARY:GSR School
DESCRIPTION:Register here at SignUpGenius \nZoom URL: https://us06web.zoom.us/j/81807873398\nMeeting ID: 818 0787 3398\nPasscode: 679127 \nSpanish interpretation will be available!
URL:https://cnia.org/event/gsr-school/2023-09-05/
CATEGORIES:Area Events
END:VEVENT
BEGIN:VEVENT
DTSTART;TZID=America/Los_Angeles:20230902T100000
DTEND;TZID=America/Los_Angeles:20230902T140000
DTSTAMP:20260420T095224
CREATED:20230715T140239Z
LAST-MODIFIED:20230715T140400Z
UID:10000120-1693648800-1693663200@cnia.org
SUMMARY:CNIA 07 Archives
DESCRIPTION:
URL:https://cnia.org/event/cnia-07-archives-4/
LOCATION:CNIA 07 Archives\, 1807 Navy Drive\, Suite 11\, Stockton\, CA\, 95206\, United States
CATEGORIES:Area Events
ORGANIZER;CN="Nancy K.":MAILTO:archives@cnia.org
END:VEVENT
BEGIN:VEVENT
DTSTART;TZID=America/Los_Angeles:20230826T100000
DTEND;TZID=America/Los_Angeles:20230826T140000
DTSTAMP:20260420T095224
CREATED:20230715T140147Z
LAST-MODIFIED:20230715T140321Z
UID:10000119-1693044000-1693058400@cnia.org
SUMMARY:CNIA 07 Archives
DESCRIPTION:
URL:https://cnia.org/event/cnia-07-archives-3/
LOCATION:CNIA 07 Archives\, 1807 Navy Drive\, Suite 11\, Stockton\, CA\, 95206\, United States
CATEGORIES:Area Events
ORGANIZER;CN="Nancy K.":MAILTO:archives@cnia.org
END:VEVENT
END:VCALENDAR