BEGIN:VCALENDAR
VERSION:2.0
PRODID:-//CNIA 07 - ECPv6.15.13//NONSGML v1.0//EN
CALSCALE:GREGORIAN
METHOD:PUBLISH
X-ORIGINAL-URL:https://cnia.org
X-WR-CALDESC:Events for CNIA 07
REFRESH-INTERVAL;VALUE=DURATION:PT1H
X-Robots-Tag:noindex
X-PUBLISHED-TTL:PT1H
BEGIN:VTIMEZONE
TZID:America/Los_Angeles
BEGIN:DAYLIGHT
TZOFFSETFROM:-0800
TZOFFSETTO:-0700
TZNAME:PDT
DTSTART:20250309T100000
END:DAYLIGHT
BEGIN:STANDARD
TZOFFSETFROM:-0700
TZOFFSETTO:-0800
TZNAME:PST
DTSTART:20251102T090000
END:STANDARD
BEGIN:DAYLIGHT
TZOFFSETFROM:-0800
TZOFFSETTO:-0700
TZNAME:PDT
DTSTART:20260308T100000
END:DAYLIGHT
BEGIN:STANDARD
TZOFFSETFROM:-0700
TZOFFSETTO:-0800
TZNAME:PST
DTSTART:20261101T090000
END:STANDARD
BEGIN:DAYLIGHT
TZOFFSETFROM:-0800
TZOFFSETTO:-0700
TZNAME:PDT
DTSTART:20270314T100000
END:DAYLIGHT
BEGIN:STANDARD
TZOFFSETFROM:-0700
TZOFFSETTO:-0800
TZNAME:PST
DTSTART:20271107T090000
END:STANDARD
END:VTIMEZONE
BEGIN:VEVENT
DTSTART;TZID=America/Los_Angeles:20260117T080000
DTEND;TZID=America/Los_Angeles:20260117T170000
DTSTAMP:20260420T112942
CREATED:20250816T185341Z
LAST-MODIFIED:20250816T185359Z
UID:10000733-1768636800-1768669200@cnia.org
SUMMARY:Special Forum for Deaf Alcoholic Anonymous Members
DESCRIPTION:Please help us get this information out to Deaf alcoholics.  Click here to download the flyer \nSave the date ASL/LSM/LSQ digital flyer for the Special Forum for Deaf Alcoholic Anonymous Members \n \nJanuary 17\, 2026\, Special Forum for Deaf Alcoholic Anonymous Members.\nA Language and Cultural Special Forum for Deaf A.A. Members who use American Sign Language (ASL)\, Langue des Signes Québécoise (LSQ) & Lengua de Señas Mexicana (LSM) \n\n 
URL:https://cnia.org/event/special-forum-for-deaf-alcoholic-anonymous-members/
CATEGORIES:Regional & GSO Events
END:VEVENT
END:VCALENDAR