BEGIN:VCALENDAR
VERSION:2.0
PRODID:-//CNIA 07 - ECPv6.15.13//NONSGML v1.0//EN
CALSCALE:GREGORIAN
METHOD:PUBLISH
X-ORIGINAL-URL:https://cnia.org
X-WR-CALDESC:Events for CNIA 07
REFRESH-INTERVAL;VALUE=DURATION:PT1H
X-Robots-Tag:noindex
X-PUBLISHED-TTL:PT1H
BEGIN:VTIMEZONE
TZID:America/Los_Angeles
BEGIN:DAYLIGHT
TZOFFSETFROM:-0800
TZOFFSETTO:-0700
TZNAME:PDT
DTSTART:20220313T100000
END:DAYLIGHT
BEGIN:STANDARD
TZOFFSETFROM:-0700
TZOFFSETTO:-0800
TZNAME:PST
DTSTART:20221106T090000
END:STANDARD
BEGIN:DAYLIGHT
TZOFFSETFROM:-0800
TZOFFSETTO:-0700
TZNAME:PDT
DTSTART:20230312T100000
END:DAYLIGHT
BEGIN:STANDARD
TZOFFSETFROM:-0700
TZOFFSETTO:-0800
TZNAME:PST
DTSTART:20231105T090000
END:STANDARD
BEGIN:DAYLIGHT
TZOFFSETFROM:-0800
TZOFFSETTO:-0700
TZNAME:PDT
DTSTART:20240310T100000
END:DAYLIGHT
BEGIN:STANDARD
TZOFFSETFROM:-0700
TZOFFSETTO:-0800
TZNAME:PST
DTSTART:20241103T090000
END:STANDARD
END:VTIMEZONE
BEGIN:VEVENT
DTSTART;VALUE=DATE:20230901
DTEND;VALUE=DATE:20230905
DTSTAMP:20260424T142204
CREATED:20230402T194106Z
LAST-MODIFIED:20230801T133645Z
UID:10000097-1693526400-1693871999@cnia.org
SUMMARY:63rd ICYPAA - San Francisco\, CA
DESCRIPTION:
URL:https://cnia.org/event/63rd-icypaa-san-francisco-ca/
CATEGORIES:YPAA Events
END:VEVENT
BEGIN:VEVENT
DTSTART;TZID=America/Los_Angeles:20230902T100000
DTEND;TZID=America/Los_Angeles:20230902T140000
DTSTAMP:20260424T142204
CREATED:20230715T140239Z
LAST-MODIFIED:20230715T140400Z
UID:10000120-1693648800-1693663200@cnia.org
SUMMARY:CNIA 07 Archives
DESCRIPTION:
URL:https://cnia.org/event/cnia-07-archives-4/
LOCATION:CNIA 07 Archives\, 1807 Navy Drive\, Suite 11\, Stockton\, CA\, 95206\, United States
CATEGORIES:Area Events
ORGANIZER;CN="Nancy K.":MAILTO:archives@cnia.org
END:VEVENT
BEGIN:VEVENT
DTSTART;TZID=America/Los_Angeles:20230905T180000
DTEND;TZID=America/Los_Angeles:20230905T190000
DTSTAMP:20260424T142204
CREATED:20230822T012818Z
LAST-MODIFIED:20230822T131153Z
UID:10000168-1693936800-1693940400@cnia.org
SUMMARY:GSR School
DESCRIPTION:Register here at SignUpGenius \nZoom URL: https://us06web.zoom.us/j/81807873398\nMeeting ID: 818 0787 3398\nPasscode: 679127 \nSpanish interpretation will be available!
URL:https://cnia.org/event/gsr-school/2023-09-05/
CATEGORIES:Area Events
END:VEVENT
BEGIN:VEVENT
DTSTART;TZID=America/Los_Angeles:20230911T180000
DTEND;TZID=America/Los_Angeles:20230911T190000
DTSTAMP:20260424T142204
CREATED:20230822T012818Z
LAST-MODIFIED:20230822T131153Z
UID:10000169-1694455200-1694458800@cnia.org
SUMMARY:GSR School
DESCRIPTION:Register here at SignUpGenius \nZoom URL: https://us06web.zoom.us/j/81807873398\nMeeting ID: 818 0787 3398\nPasscode: 679127 \nSpanish interpretation will be available!
URL:https://cnia.org/event/gsr-school/2023-09-11/
CATEGORIES:Area Events
END:VEVENT
BEGIN:VEVENT
DTSTART;TZID=America/Los_Angeles:20230916T100000
DTEND;TZID=America/Los_Angeles:20230916T100000
DTSTAMP:20260424T142204
CREATED:20230829T015339Z
LAST-MODIFIED:20230829T015343Z
UID:10000155-1694858400-1694858400@cnia.org
SUMMARY:Area Committee Meeting (Hybrid)
DESCRIPTION:Virtual Meeting Details: \nhttps://us06web.zoom.us/j/98216375307 \nMeeting ID: 982 1637 5307 \nPasscode: 244723 \nHow to Join a Virtual Meeting
URL:https://cnia.org/event/area-committee-meeting-2/2023-09-16/
LOCATION:Trinity Presbyterian Church\, 1500 Park Blvd\, West Sacramento\, CA\, 95691\, United States
CATEGORIES:Area Committee Meetings
END:VEVENT
BEGIN:VEVENT
DTSTART;TZID=America/Los_Angeles:20230916T180000
DTEND;TZID=America/Los_Angeles:20230916T200000
DTSTAMP:20260424T142204
CREATED:20230819T173632Z
LAST-MODIFIED:20230819T173632Z
UID:10000165-1694887200-1694894400@cnia.org
SUMMARY:Woodland Traditional Group Fall Festival
DESCRIPTION:
URL:https://cnia.org/event/woodland-traditional-group-fall-festival/
LOCATION:Eagle’s Hall\, 37650 CA-16\, Woodland\, CA\, 95695\, United States
CATEGORIES:Group Events
END:VEVENT
BEGIN:VEVENT
DTSTART;TZID=America/Los_Angeles:20230919T180000
DTEND;TZID=America/Los_Angeles:20230919T190000
DTSTAMP:20260424T142204
CREATED:20230919T233349Z
LAST-MODIFIED:20230919T233515Z
UID:10000170-1695146400-1695150000@cnia.org
SUMMARY:GSR School (Canceled\, pending reschedule)
DESCRIPTION:Unfortunately\, tonight’s GSR School session is canceled. \nWe will reschedule with a new date soon.
URL:https://cnia.org/event/gsr-school-2/
CATEGORIES:Area Events
END:VEVENT
BEGIN:VEVENT
DTSTART;TZID=America/Los_Angeles:20230924T100000
DTEND;TZID=America/Los_Angeles:20230924T160000
DTSTAMP:20260424T142204
CREATED:20230801T015502Z
LAST-MODIFIED:20230801T020412Z
UID:10000164-1695549600-1695571200@cnia.org
SUMMARY:District 36 Unity Day
DESCRIPTION:Yosemite Lake\, Veteran’s Cove Rd.\n5714 Lake Rd.\nMerced\, CA\n95340 \nSCHEDULE:\nSocial Hour\nInvocation: Jenn D. Lunch\n7th Tradition\nOpening Speaker: Paul C.\nAl-anon Speaker: Toni M.\nSobriety Countdown\nMain Speaker: Bob R.\nSilent Auction Closes\nSilent Auction Winners\n50/50 Drawing\nSerenity Prayer
URL:https://cnia.org/event/district-36-unity-day/
CATEGORIES:District/Intergroup Events
END:VEVENT
BEGIN:VEVENT
DTSTART;TZID=America/Los_Angeles:20230930T100000
DTEND;TZID=America/Los_Angeles:20230930T140000
DTSTAMP:20260424T142204
CREATED:20230715T140546Z
LAST-MODIFIED:20230715T140546Z
UID:10000121-1696068000-1696082400@cnia.org
SUMMARY:CNIA 07 Archives
DESCRIPTION:
URL:https://cnia.org/event/cnia-07-archives-5/
LOCATION:CNIA 07 Archives\, 1807 Navy Drive\, Suite 11\, Stockton\, CA\, 95206\, United States
CATEGORIES:Area Events
ORGANIZER;CN="Nancy K.":MAILTO:archives@cnia.org
END:VEVENT
BEGIN:VEVENT
DTSTART;TZID=America/Los_Angeles:20230930T100000
DTEND;TZID=America/Los_Angeles:20230930T153000
DTSTAMP:20260424T142204
CREATED:20230923T230115Z
LAST-MODIFIED:20230923T230305Z
UID:10000171-1696068000-1696087800@cnia.org
SUMMARY:District 21 Service Faire & Celebration
DESCRIPTION:
URL:https://cnia.org/event/district-21-service-faire-celebration/
LOCATION:Shepard of the Sierra Church\, 5400 Barton Road\, Loomis\, CA\, 95650\, United States
CATEGORIES:District/Intergroup Events
ORGANIZER;CN="Sam P.":MAILTO:dcm@aaplacer.org
END:VEVENT
END:VCALENDAR