BEGIN:VCALENDAR
VERSION:2.0
PRODID:-//CNIA 07 - ECPv6.15.13//NONSGML v1.0//EN
CALSCALE:GREGORIAN
METHOD:PUBLISH
X-ORIGINAL-URL:https://cnia.org
X-WR-CALDESC:Events for CNIA 07
REFRESH-INTERVAL;VALUE=DURATION:PT1H
X-Robots-Tag:noindex
X-PUBLISHED-TTL:PT1H
BEGIN:VTIMEZONE
TZID:America/Los_Angeles
BEGIN:DAYLIGHT
TZOFFSETFROM:-0800
TZOFFSETTO:-0700
TZNAME:PDT
DTSTART:20220313T100000
END:DAYLIGHT
BEGIN:STANDARD
TZOFFSETFROM:-0700
TZOFFSETTO:-0800
TZNAME:PST
DTSTART:20221106T090000
END:STANDARD
BEGIN:DAYLIGHT
TZOFFSETFROM:-0800
TZOFFSETTO:-0700
TZNAME:PDT
DTSTART:20230312T100000
END:DAYLIGHT
BEGIN:STANDARD
TZOFFSETFROM:-0700
TZOFFSETTO:-0800
TZNAME:PST
DTSTART:20231105T090000
END:STANDARD
BEGIN:DAYLIGHT
TZOFFSETFROM:-0800
TZOFFSETTO:-0700
TZNAME:PDT
DTSTART:20240310T100000
END:DAYLIGHT
BEGIN:STANDARD
TZOFFSETFROM:-0700
TZOFFSETTO:-0800
TZNAME:PST
DTSTART:20241103T090000
END:STANDARD
END:VTIMEZONE
BEGIN:VEVENT
DTSTART;TZID=America/Los_Angeles:20231007T100000
DTEND;TZID=America/Los_Angeles:20231007T140000
DTSTAMP:20260424T130711
CREATED:20230715T140635Z
LAST-MODIFIED:20230715T140635Z
UID:10000122-1696672800-1696687200@cnia.org
SUMMARY:CNIA 07 Archives
DESCRIPTION:
URL:https://cnia.org/event/cnia-07-archives-6/
LOCATION:CNIA 07 Archives\, 1807 Navy Drive\, Suite 11\, Stockton\, CA\, 95206\, United States
CATEGORIES:Area Events
ORGANIZER;CN="Nancy K.":MAILTO:archives@cnia.org
END:VEVENT
BEGIN:VEVENT
DTSTART;TZID=America/Los_Angeles:20231013T080000
DTEND;TZID=America/Los_Angeles:20231015T170000
DTSTAMP:20260424T130711
CREATED:20230715T192644Z
LAST-MODIFIED:20230715T192644Z
UID:10000127-1697184000-1697389200@cnia.org
SUMMARY:NCCAA 74th Annual Fall Conference - Fresno
DESCRIPTION:
URL:https://cnia.org/event/nccaa-74th-annual-fall-conference-fresno/
LOCATION:DoubleTree by Hilton\, 2233 Ventura St\, Fresno\, CA\, 93721\, United States
CATEGORIES:Regional & GSO Events
END:VEVENT
BEGIN:VEVENT
DTSTART;TZID=America/Los_Angeles:20231014T110000
DTEND;TZID=America/Los_Angeles:20231014T163000
DTSTAMP:20260424T130711
CREATED:20230819T175410Z
LAST-MODIFIED:20230829T001432Z
UID:10000166-1697281200-1697301000@cnia.org
SUMMARY:Fall in Love with Service
DESCRIPTION:
URL:https://cnia.org/event/fall-in-love-with-service/
LOCATION:410 Wool Street\, 410 Wool Street\, Folsom\, CA\, 95630\, United States
CATEGORIES:District/Intergroup Events
END:VEVENT
BEGIN:VEVENT
DTSTART;TZID=America/Los_Angeles:20231021T100000
DTEND;TZID=America/Los_Angeles:20231021T100000
DTSTAMP:20260424T130711
CREATED:20240225T173701Z
LAST-MODIFIED:20240225T173725Z
UID:10000163-1697882400-1697882400@cnia.org
SUMMARY:EXPIRED Area Committee Meeting (Hybrid)
DESCRIPTION:Virtual Meeting Details: \nhttps://us06web.zoom.us/j/98216375307 \nMeeting ID: 982 1637 5307 \nPasscode: 244723 \nHow to Join a Virtual Meeting
URL:https://cnia.org/event/area-committee-meeting-2-2/
LOCATION:Trinity Presbyterian Church\, 1500 Park Blvd\, West Sacramento\, CA\, 95691\, United States
CATEGORIES:Area Committee Meetings
END:VEVENT
BEGIN:VEVENT
DTSTART;TZID=America/Los_Angeles:20231028T100000
DTEND;TZID=America/Los_Angeles:20231028T140000
DTSTAMP:20260424T130711
CREATED:20230715T140717Z
LAST-MODIFIED:20230715T140717Z
UID:10000123-1698487200-1698501600@cnia.org
SUMMARY:CNIA 07 Archives
DESCRIPTION:
URL:https://cnia.org/event/cnia-07-archives-7/
LOCATION:CNIA 07 Archives\, 1807 Navy Drive\, Suite 11\, Stockton\, CA\, 95206\, United States
CATEGORIES:Area Events
ORGANIZER;CN="Nancy K.":MAILTO:archives@cnia.org
END:VEVENT
END:VCALENDAR