BEGIN:VCALENDAR
VERSION:2.0
PRODID:-//CNIA 07 - ECPv6.15.13//NONSGML v1.0//EN
CALSCALE:GREGORIAN
METHOD:PUBLISH
X-ORIGINAL-URL:https://cnia.org
X-WR-CALDESC:Events for CNIA 07
REFRESH-INTERVAL;VALUE=DURATION:PT1H
X-Robots-Tag:noindex
X-PUBLISHED-TTL:PT1H
BEGIN:VTIMEZONE
TZID:America/Los_Angeles
BEGIN:DAYLIGHT
TZOFFSETFROM:-0800
TZOFFSETTO:-0700
TZNAME:PDT
DTSTART:20230312T100000
END:DAYLIGHT
BEGIN:STANDARD
TZOFFSETFROM:-0700
TZOFFSETTO:-0800
TZNAME:PST
DTSTART:20231105T090000
END:STANDARD
BEGIN:DAYLIGHT
TZOFFSETFROM:-0800
TZOFFSETTO:-0700
TZNAME:PDT
DTSTART:20240310T100000
END:DAYLIGHT
BEGIN:STANDARD
TZOFFSETFROM:-0700
TZOFFSETTO:-0800
TZNAME:PST
DTSTART:20241103T090000
END:STANDARD
BEGIN:DAYLIGHT
TZOFFSETFROM:-0800
TZOFFSETTO:-0700
TZNAME:PDT
DTSTART:20250309T100000
END:DAYLIGHT
BEGIN:STANDARD
TZOFFSETFROM:-0700
TZOFFSETTO:-0800
TZNAME:PST
DTSTART:20251102T090000
END:STANDARD
END:VTIMEZONE
BEGIN:VEVENT
DTSTART;TZID=America/Los_Angeles:20240210T080000
DTEND;TZID=America/Los_Angeles:20240210T170000
DTSTAMP:20260424T064632
CREATED:20240202T055321Z
LAST-MODIFIED:20240202T055321Z
UID:10000236-1707552000-1707584400@cnia.org
SUMMARY:Plain Language Big Book Informational Session - Zoom
DESCRIPTION:Hosted by Areas 18\, 58\, 72 & 92 \n11:00am PST / 12:00pm MST \nZoom ID: 874 5807 5405     Password: 459079 \nLink: tinurl.com/plbbis \nSpanish and ASL Interpretation Provided
URL:https://cnia.org/event/plain-language-big-book-informational-session-zoom/
CATEGORIES:Area Events,Regional & GSO Events
END:VEVENT
BEGIN:VEVENT
DTSTART;TZID=America/Los_Angeles:20240217T100000
DTEND;TZID=America/Los_Angeles:20240217T160000
DTSTAMP:20260424T064632
CREATED:20230715T195445Z
LAST-MODIFIED:20240921T205028Z
UID:10000135-1708164000-1708185600@cnia.org
SUMMARY:Area Committee Meeting
DESCRIPTION:Virtual Meeting Details: \nhttps://us06web.zoom.us/j/98216375307 \nMeeting ID: 982 1637 5307 \nPasscode: 244723 \nHow to Join a Virtual Meeting
URL:https://cnia.org/event/area-planning-meeting-potluck-hybrid/2024-02-17/
LOCATION:Trinity Presbyterian Church\, 1500 Park Blvd\, West Sacramento\, CA\, 95691\, United States
CATEGORIES:Area Committee Meetings
END:VEVENT
BEGIN:VEVENT
DTSTART;TZID=America/Los_Angeles:20240218T130000
DTEND;TZID=America/Los_Angeles:20240218T150000
DTSTAMP:20260424T064632
CREATED:20240129T021201Z
LAST-MODIFIED:20240129T021201Z
UID:10000235-1708261200-1708268400@cnia.org
SUMMARY:SACYPAA Committee Elections
DESCRIPTION:
URL:https://cnia.org/event/sacypaa-committee-elections/
CATEGORIES:YPAA Events
END:VEVENT
BEGIN:VEVENT
DTSTART;TZID=America/Los_Angeles:20240224T190000
DTEND;TZID=America/Los_Angeles:20240224T220000
DTSTAMP:20260424T064632
CREATED:20240129T020952Z
LAST-MODIFIED:20240129T020952Z
UID:10000234-1708801200-1708812000@cnia.org
SUMMARY:SACYPAA’s Sweetheart Battles
DESCRIPTION:2700 L street\nSacramento\, CA\n95816\nUS
URL:https://cnia.org/event/sacypaas-sweetheart-battles/
CATEGORIES:YPAA Events
END:VEVENT
BEGIN:VEVENT
DTSTART;TZID=America/Los_Angeles:20240225T130000
DTEND;TZID=America/Los_Angeles:20240225T150000
DTSTAMP:20260424T064632
CREATED:20240217T184055Z
LAST-MODIFIED:20240225T171048Z
UID:10000239-1708866000-1708873200@cnia.org
SUMMARY:Agenda Item Workshop IN PERSON and Zoom Option Hybrid - Dist 30\, 33 & 40
DESCRIPTION:This meeting will included IN PERSON attendance\, as well as the option to attend via Zoom. \nJoin Agenda Item Workshop Zoom Meeting: \nhttps://us02web.zoom.us/j/87506280493?pwd=RXdDdHBHSmcwcjZWM0dTT29QOGdxZz09 \n  \nMeeting ID: 875 0628 0493 \nPasscode: 024532 \nSonora Alano Club \n19421 Village Dr \nSonora\, CA  95370 \nUnited States
URL:https://cnia.org/event/agenda-item-workshop-hybrid-dist-30-33-40/
LOCATION:Sonora Alano Club\, 19421 Village Drive\, Sonora\, CA\, 95370
CATEGORIES:Delegate Events
END:VEVENT
END:VCALENDAR