BEGIN:VCALENDAR
VERSION:2.0
PRODID:-//CNIA 07 - ECPv6.15.13//NONSGML v1.0//EN
CALSCALE:GREGORIAN
METHOD:PUBLISH
X-WR-CALNAME:CNIA 07
X-ORIGINAL-URL:https://cnia.org
X-WR-CALDESC:Events for CNIA 07
REFRESH-INTERVAL;VALUE=DURATION:PT1H
X-Robots-Tag:noindex
X-PUBLISHED-TTL:PT1H
BEGIN:VTIMEZONE
TZID:America/Los_Angeles
BEGIN:DAYLIGHT
TZOFFSETFROM:-0800
TZOFFSETTO:-0700
TZNAME:PDT
DTSTART:20230312T100000
END:DAYLIGHT
BEGIN:STANDARD
TZOFFSETFROM:-0700
TZOFFSETTO:-0800
TZNAME:PST
DTSTART:20231105T090000
END:STANDARD
BEGIN:DAYLIGHT
TZOFFSETFROM:-0800
TZOFFSETTO:-0700
TZNAME:PDT
DTSTART:20240310T100000
END:DAYLIGHT
BEGIN:STANDARD
TZOFFSETFROM:-0700
TZOFFSETTO:-0800
TZNAME:PST
DTSTART:20241103T090000
END:STANDARD
BEGIN:DAYLIGHT
TZOFFSETFROM:-0800
TZOFFSETTO:-0700
TZNAME:PDT
DTSTART:20250309T100000
END:DAYLIGHT
BEGIN:STANDARD
TZOFFSETFROM:-0700
TZOFFSETTO:-0800
TZNAME:PST
DTSTART:20251102T090000
END:STANDARD
END:VTIMEZONE
BEGIN:VEVENT
DTSTART;TZID=America/Los_Angeles:20240301T080000
DTEND;TZID=America/Los_Angeles:20240303T170000
DTSTAMP:20260424T051507
CREATED:20230715T193811Z
LAST-MODIFIED:20240129T020214Z
UID:10000129-1709280000-1709485200@cnia.org
SUMMARY:PRAASA Area 06 San Francisco
DESCRIPTION:Visit the website
URL:https://cnia.org/event/praasa-area-06-san-francisco/
CATEGORIES:Regional & GSO Events
END:VEVENT
BEGIN:VEVENT
DTSTART;TZID=America/Los_Angeles:20240307T190000
DTEND;TZID=America/Los_Angeles:20240307T203000
DTSTAMP:20260424T051507
CREATED:20240217T221545Z
LAST-MODIFIED:20240225T171707Z
UID:10000247-1709838000-1709843400@cnia.org
SUMMARY:Founder's Writing Discussion with Delegate (Zoom)
DESCRIPTION:Discussion regarding the questions presented by GSO for group consideration on the future of AA Founder’s writings\, such as the Big Book and Twelve & Twelve. \nJoin Zoom Meeting \nhttps://us06web.zoom.us/j/89262401871 \nMeeting ID: 892 6240 1871 \nPasscode: Service#74 \n— \nOne tap mobile \n+16699006833\,\,89262401871#\,\,\,\,*6167658516# US (San Jose)
URL:https://cnia.org/event/founders-writing-discussion-with-delegate/
CATEGORIES:Delegate Events
END:VEVENT
BEGIN:VEVENT
DTSTART;TZID=America/Los_Angeles:20240309T100000
DTEND;TZID=America/Los_Angeles:20240309T140000
DTSTAMP:20260424T051507
CREATED:20240222T032318Z
LAST-MODIFIED:20240222T032318Z
UID:10000255-1709978400-1709992800@cnia.org
SUMMARY:CNIA 07 Archives Open
DESCRIPTION:Stop by and visit Archives.
URL:https://cnia.org/event/cnia-07-archives-open/
LOCATION:CNIA 07 Archives\, 1807 Navy Drive\, Suite 11\, Stockton\, CA\, 95206\, United States
CATEGORIES:Area Events
END:VEVENT
BEGIN:VEVENT
DTSTART;TZID=America/Los_Angeles:20240309T100000
DTEND;TZID=America/Los_Angeles:20240309T150000
DTSTAMP:20260424T051507
CREATED:20240217T184153Z
LAST-MODIFIED:20240220T061631Z
UID:10000240-1709978400-1709996400@cnia.org
SUMMARY:Mock General Service Conf Workshop - D15
DESCRIPTION:
URL:https://cnia.org/event/agenda-item-workshop-dist-15/
CATEGORIES:Delegate Events
END:VEVENT
BEGIN:VEVENT
DTSTART;TZID=America/Los_Angeles:20240310T130000
DTEND;TZID=America/Los_Angeles:20240310T150000
DTSTAMP:20260424T051507
CREATED:20240217T184437Z
LAST-MODIFIED:20240310T200555Z
UID:10000241-1710075600-1710082800@cnia.org
SUMMARY:Agenda Item Workshop In PERSON and Zoom Option Hybrid - Dist 20\, 21 & 22
DESCRIPTION:This meeting will included IN PERSON attendance\, as well as the option to attend via Zoom. \nJoint D20/D21/D22 Agenda Topics Workshop – Grapevine/La Viña Committee Items\nAuburn Fellowship – 534 Auburn Ravine Rd  Auburn\, CA 95603\nAND on Zoom   **Spanish Interpretation available online only \nhttps://us06web.zoom.us/j/87863911721 \nDownload the Flyer
URL:https://cnia.org/event/agenda-item-workshop-dist-21-53-55/
CATEGORIES:Delegate Events
END:VEVENT
BEGIN:VEVENT
DTSTART;TZID=America/Los_Angeles:20240314T190000
DTEND;TZID=America/Los_Angeles:20240314T203000
DTSTAMP:20260424T051507
CREATED:20240217T221715Z
LAST-MODIFIED:20240225T171812Z
UID:10000248-1710442800-1710448200@cnia.org
SUMMARY:Founder's Writing Discussion with Delegate (Zoom)
DESCRIPTION:Discussion regarding the questions presented by GSO for group consideration on the future of AA Founder’s writings\, such as the Big Book and Twelve & Twelve. \nJoin Zoom Meeting \nhttps://us06web.zoom.us/j/89262401871 \nMeeting ID: 892 6240 1871 \nPasscode: Service#74 \n— \nOne tap mobile \n+16699006833\,\,89262401871#\,\,\,\,*6167658516# US (San Jose)
URL:https://cnia.org/event/founders-writing-discussion-with-delegate-2/
CATEGORIES:Delegate Events
END:VEVENT
BEGIN:VEVENT
DTSTART;TZID=America/Los_Angeles:20240315T080000
DTEND;TZID=America/Los_Angeles:20240315T170000
DTSTAMP:20260424T051507
CREATED:20240217T184545Z
LAST-MODIFIED:20240217T184545Z
UID:10000242-1710489600-1710522000@cnia.org
SUMMARY:Agenda Item Workshop - Dist 53 & 55
DESCRIPTION:More details to follow 2/17
URL:https://cnia.org/event/agenda-item-workshop-dist-53-55-2/
CATEGORIES:Delegate Events
END:VEVENT
BEGIN:VEVENT
DTSTART;TZID=America/Los_Angeles:20240316T100000
DTEND;TZID=America/Los_Angeles:20240316T160000
DTSTAMP:20260424T051507
CREATED:20230715T195445Z
LAST-MODIFIED:20240921T205028Z
UID:10000136-1710583200-1710604800@cnia.org
SUMMARY:Area Committee Meeting
DESCRIPTION:Virtual Meeting Details: \nhttps://us06web.zoom.us/j/98216375307 \nMeeting ID: 982 1637 5307 \nPasscode: 244723 \nHow to Join a Virtual Meeting
URL:https://cnia.org/event/area-planning-meeting-potluck-hybrid/2024-03-16/
LOCATION:Trinity Presbyterian Church\, 1500 Park Blvd\, West Sacramento\, CA\, 95691\, United States
CATEGORIES:Area Committee Meetings
END:VEVENT
BEGIN:VEVENT
DTSTART;TZID=America/Los_Angeles:20240317T133000
DTEND;TZID=America/Los_Angeles:20240317T160000
DTSTAMP:20260424T051507
CREATED:20240217T184636Z
LAST-MODIFIED:20240220T061030Z
UID:10000243-1710682200-1710691200@cnia.org
SUMMARY:Agenda Item Workshop - Dist 23\, 24\, 27 & 29
DESCRIPTION:Traditional Group\n1355 Fulton Ave  Sacramento
URL:https://cnia.org/event/agenda-item-workshop-dist-23-24-25-29/
CATEGORIES:Delegate Events
END:VEVENT
BEGIN:VEVENT
DTSTART;TZID=America/Los_Angeles:20240321T190000
DTEND;TZID=America/Los_Angeles:20240321T203000
DTSTAMP:20260424T051507
CREATED:20240217T221737Z
LAST-MODIFIED:20240225T171737Z
UID:10000249-1711047600-1711053000@cnia.org
SUMMARY:Founder's Writing Discussion with Delegate (Zoom)
DESCRIPTION:Discussion regarding the questions presented by GSO for group consideration on the future of AA Founder’s writings\, such as the Big Book and Twelve & Twelve. \nJoin Zoom Meeting \nhttps://us06web.zoom.us/j/89262401871 \nMeeting ID: 892 6240 1871 \nPasscode: Service#74 \n— \nOne tap mobile \n+16699006833\,\,89262401871#\,\,\,\,*6167658516# US (San Jose)
URL:https://cnia.org/event/founders-writing-discussion-with-delegate-3/
CATEGORIES:Delegate Events
END:VEVENT
BEGIN:VEVENT
DTSTART;TZID=America/Los_Angeles:20240323T130000
DTEND;TZID=America/Los_Angeles:20240323T150000
DTSTAMP:20260424T051507
CREATED:20240217T183304Z
LAST-MODIFIED:20240225T171314Z
UID:10000237-1711198800-1711206000@cnia.org
SUMMARY:Agenda Item Workshop In PERSON and Zoom Option Hybrid - Fresno Dist 41 & 42
DESCRIPTION:This meeting will included IN PERSON attendance\, as well as the option to attend via Zoom.\n\nDownload Flyer\nWith participation from Districts 40\, 41\, 42\, 42\, 43\, 45 &47\nThis is a Hybrid Meeting\, On Zoom\, click the Zoom Icon to get right into the 2024 General Service Conference Agenda Items Workshop:\nZOOM \n\nMeeting ID: 861 0757 2187\nPassword: 364 622\n\n\nContact Bill L. for more information
URL:https://cnia.org/event/agenda-item-workshop-hybrid-fresno-dist-41-42/
LOCATION:New Life Community Church 2165 E Gettysburg Clovis 93611\, 2165 E Gettysburg\, Clovis\, CA\, 93611\, United States
CATEGORIES:Delegate Events
END:VEVENT
BEGIN:VEVENT
DTSTART;TZID=America/Los_Angeles:20240324T120000
DTEND;TZID=America/Los_Angeles:20240324T140000
DTSTAMP:20260424T051507
CREATED:20240217T184745Z
LAST-MODIFIED:20240305T013531Z
UID:10000244-1711281600-1711288800@cnia.org
SUMMARY:Agenda Item Workshop - Dist 9 & 11
DESCRIPTION:March 24th at 12-2 \n15244 Driftwood Lane\nWeed CA 96094 \nContact\nChristine T and Glen H
URL:https://cnia.org/event/agenda-item-workshop-dist-9-11/
LOCATION:District 9 & 11 Agenda Workshop\, 15244 Driftwood Lane\, Weed\, California\, 96094\, United States
CATEGORIES:Delegate Events
END:VEVENT
BEGIN:VEVENT
DTSTART;TZID=America/Los_Angeles:20240327T190000
DTEND;TZID=America/Los_Angeles:20240327T200000
DTSTAMP:20260424T051507
CREATED:20240317T053714Z
LAST-MODIFIED:20240317T062152Z
UID:10000293-1711566000-1711569600@cnia.org
SUMMARY:CNIA 07 Monthly Grapevine/La Viña Meeting
DESCRIPTION:CNIA 07 Monthly Grapvine/La Viña Meeting \nLast Wednesday of every month 7:00 PM PST\nZoom Link: https://meet.google.com/hao-mhwo-juc?hs=122&authuser=0\nPhone: ‪+1 516-744-1292‬ PIN: ‪549 282 071#‬
URL:https://cnia.org/event/cnia-07-monthly-grapvine-la-vina-meeting/2024-03-27/
CATEGORIES:Area Events
END:VEVENT
BEGIN:VEVENT
DTSTART;TZID=America/Los_Angeles:20240328T190000
DTEND;TZID=America/Los_Angeles:20240328T210000
DTSTAMP:20260424T051507
CREATED:20240217T210242Z
LAST-MODIFIED:20240326T174945Z
UID:10000246-1711652400-1711659600@cnia.org
SUMMARY:Agenda Item Workshop - Dist 54
DESCRIPTION:4601 Franklin Blvd\, Sacramento
URL:https://cnia.org/event/agenda-item-workshop-dist-54/
CATEGORIES:Delegate Events
END:VEVENT
END:VCALENDAR