BEGIN:VCALENDAR
VERSION:2.0
PRODID:-//CNIA 07 - ECPv6.15.13//NONSGML v1.0//EN
CALSCALE:GREGORIAN
METHOD:PUBLISH
X-WR-CALNAME:CNIA 07
X-ORIGINAL-URL:https://cnia.org
X-WR-CALDESC:Events for CNIA 07
REFRESH-INTERVAL;VALUE=DURATION:PT1H
X-Robots-Tag:noindex
X-PUBLISHED-TTL:PT1H
BEGIN:VTIMEZONE
TZID:America/Los_Angeles
BEGIN:DAYLIGHT
TZOFFSETFROM:-0800
TZOFFSETTO:-0700
TZNAME:PDT
DTSTART:20230312T100000
END:DAYLIGHT
BEGIN:STANDARD
TZOFFSETFROM:-0700
TZOFFSETTO:-0800
TZNAME:PST
DTSTART:20231105T090000
END:STANDARD
BEGIN:DAYLIGHT
TZOFFSETFROM:-0800
TZOFFSETTO:-0700
TZNAME:PDT
DTSTART:20240310T100000
END:DAYLIGHT
BEGIN:STANDARD
TZOFFSETFROM:-0700
TZOFFSETTO:-0800
TZNAME:PST
DTSTART:20241103T090000
END:STANDARD
BEGIN:DAYLIGHT
TZOFFSETFROM:-0800
TZOFFSETTO:-0700
TZNAME:PDT
DTSTART:20250309T100000
END:DAYLIGHT
BEGIN:STANDARD
TZOFFSETFROM:-0700
TZOFFSETTO:-0800
TZNAME:PST
DTSTART:20251102T090000
END:STANDARD
END:VTIMEZONE
BEGIN:VEVENT
DTSTART;TZID=America/Los_Angeles:20240406T100000
DTEND;TZID=America/Los_Angeles:20240407T120000
DTSTAMP:20260424T040237
CREATED:20230715T193849Z
LAST-MODIFIED:20240404T185226Z
UID:10000130-1712397600-1712491200@cnia.org
SUMMARY:Pre-Conf Assembly D34/36 Stanislaus
DESCRIPTION:Visit the Assembly Info page for more information and Assembly Prep for guidelines on preparing for the weekend\, as well as the Agenda. \nRegistration begins 10:00am \nAssembly begins at 12:00pm
URL:https://cnia.org/event/pre-conf-assembly-d34-36-stanislaus/
CATEGORIES:Area Assemblies
END:VEVENT
BEGIN:VEVENT
DTSTART;TZID=America/Los_Angeles:20240414T080000
DTEND;TZID=America/Los_Angeles:20240420T170000
DTSTAMP:20260424T040237
CREATED:20240218T001118Z
LAST-MODIFIED:20240218T001118Z
UID:10000254-1713081600-1713632400@cnia.org
SUMMARY:General Service Conference
DESCRIPTION:
URL:https://cnia.org/event/general-service-conference/
CATEGORIES:Regional & GSO Events
END:VEVENT
BEGIN:VEVENT
DTSTART;TZID=America/Los_Angeles:20240420T100000
DTEND;TZID=America/Los_Angeles:20240420T140000
DTSTAMP:20260424T040237
CREATED:20240222T032442Z
LAST-MODIFIED:20240316T212539Z
UID:10000271-1713607200-1713621600@cnia.org
SUMMARY:CNIA 07 Archives Open
DESCRIPTION:Stop by and visit Archives.
URL:https://cnia.org/event/cnia-07-archives-open-2/
LOCATION:CNIA 07 Archives\, 1807 Navy Drive\, Suite 11\, Stockton\, CA\, 95206\, United States
CATEGORIES:Area Events
END:VEVENT
BEGIN:VEVENT
DTSTART;TZID=America/Los_Angeles:20240424T190000
DTEND;TZID=America/Los_Angeles:20240424T200000
DTSTAMP:20260424T040237
CREATED:20240317T053714Z
LAST-MODIFIED:20240317T062152Z
UID:10000294-1713985200-1713988800@cnia.org
SUMMARY:CNIA 07 Monthly Grapevine/La Viña Meeting
DESCRIPTION:CNIA 07 Monthly Grapvine/La Viña Meeting \nLast Wednesday of every month 7:00 PM PST\nZoom Link: https://meet.google.com/hao-mhwo-juc?hs=122&authuser=0\nPhone: ‪+1 516-744-1292‬ PIN: ‪549 282 071#‬
URL:https://cnia.org/event/cnia-07-monthly-grapvine-la-vina-meeting/2024-04-24/
CATEGORIES:Area Events
END:VEVENT
BEGIN:VEVENT
DTSTART;TZID=America/Los_Angeles:20240427T110000
DTEND;TZID=America/Los_Angeles:20240427T150000
DTSTAMP:20260424T040237
CREATED:20240402T064011Z
LAST-MODIFIED:20240402T064011Z
UID:10000316-1714215600-1714230000@cnia.org
SUMMARY:Dist 40 Unity Day at Bass Lake
DESCRIPTION:South Park Picnic Area – Parking $10 per car.  Carpool if possible.
URL:https://cnia.org/event/dist-40-unity-day-at-bass-lake/
LOCATION:Bass Lake Recreation Point
CATEGORIES:District/Intergroup Events
END:VEVENT
BEGIN:VEVENT
DTSTART;TZID=America/Los_Angeles:20240427T190000
DTEND;TZID=America/Los_Angeles:20240427T220000
DTSTAMP:20260424T040237
CREATED:20240408T035300Z
LAST-MODIFIED:20240408T035520Z
UID:10000317-1714244400-1714255200@cnia.org
SUMMARY:SACYPAA "Spring on the Beam"
DESCRIPTION:Sacramento Area Young People in Alcoholics Anonymous (SACYPAA) presents their “Spring On The Beam” event on April 27th. This event is a speaker meeting followed by an open mic night. \n 
URL:https://cnia.org/event/sacypaa-spring-on-the-beam/
LOCATION:2700 L St Sacramento\, CA\, 2700 L St\, Sacramento\, CA\, United States
CATEGORIES:YPAA Events
END:VEVENT
BEGIN:VEVENT
DTSTART;TZID=America/Los_Angeles:20240428T130000
DTEND;TZID=America/Los_Angeles:20240428T160000
DTSTAMP:20260424T040237
CREATED:20240326T185756Z
LAST-MODIFIED:20240326T185756Z
UID:10000315-1714309200-1714320000@cnia.org
SUMMARY:Family Fun Day 2024 Hosted by Central Valley Intergroup (CVIAA)
DESCRIPTION:We are not a glum lot! Please join us for fun and fellowship:) \n3700 Beyer Park Drive\nModesto\, CA\n95355 \n 
URL:https://cnia.org/event/family-fun-day-2024-hosted-by-central-valley-intergroup-cviaa/
CATEGORIES:District/Intergroup Events
END:VEVENT
END:VCALENDAR