BEGIN:VCALENDAR
VERSION:2.0
PRODID:-//CNIA 07 - ECPv6.15.13//NONSGML v1.0//EN
CALSCALE:GREGORIAN
METHOD:PUBLISH
X-WR-CALNAME:CNIA 07
X-ORIGINAL-URL:https://cnia.org
X-WR-CALDESC:Events for CNIA 07
REFRESH-INTERVAL;VALUE=DURATION:PT1H
X-Robots-Tag:noindex
X-PUBLISHED-TTL:PT1H
BEGIN:VTIMEZONE
TZID:America/Los_Angeles
BEGIN:DAYLIGHT
TZOFFSETFROM:-0800
TZOFFSETTO:-0700
TZNAME:PDT
DTSTART:20230312T100000
END:DAYLIGHT
BEGIN:STANDARD
TZOFFSETFROM:-0700
TZOFFSETTO:-0800
TZNAME:PST
DTSTART:20231105T090000
END:STANDARD
BEGIN:DAYLIGHT
TZOFFSETFROM:-0800
TZOFFSETTO:-0700
TZNAME:PDT
DTSTART:20240310T100000
END:DAYLIGHT
BEGIN:STANDARD
TZOFFSETFROM:-0700
TZOFFSETTO:-0800
TZNAME:PST
DTSTART:20241103T090000
END:STANDARD
BEGIN:DAYLIGHT
TZOFFSETFROM:-0800
TZOFFSETTO:-0700
TZNAME:PDT
DTSTART:20250309T100000
END:DAYLIGHT
BEGIN:STANDARD
TZOFFSETFROM:-0700
TZOFFSETTO:-0800
TZNAME:PST
DTSTART:20251102T090000
END:STANDARD
END:VTIMEZONE
BEGIN:VEVENT
DTSTART;TZID=America/Los_Angeles:20240511T100000
DTEND;TZID=America/Los_Angeles:20240511T140000
DTSTAMP:20260424T024035
CREATED:20240412T212513Z
LAST-MODIFIED:20240418T011249Z
UID:10000319-1715421600-1715436000@cnia.org
SUMMARY:CNIA 07 Archives Open - Contact Prior to Visiting
DESCRIPTION:Please contact the Archives Chair PRIOR to visiting our Archives location.  Thank you \narchives@cnia.org
URL:https://cnia.org/event/cnia-07-archives-open-2-2-2/
LOCATION:CNIA 07 Archives\, 1807 Navy Drive\, Suite 11\, Stockton\, CA\, 95206\, United States
CATEGORIES:Area Events
END:VEVENT
BEGIN:VEVENT
DTSTART;TZID=America/Los_Angeles:20240517T080000
DTEND;TZID=America/Los_Angeles:20240519T170000
DTSTAMP:20260424T024035
CREATED:20240129T020718Z
LAST-MODIFIED:20240129T020718Z
UID:10000233-1715932800-1716138000@cnia.org
SUMMARY:HACYPAA VIII Heartland Area Conference of Young People in AA
DESCRIPTION:HACYPAA VIII Heartland Area Conference of Young People in AA\n“Young” is defined as room to grow and young at heart. Open to all AA members of all ages.\nWebsite: https://www.hacypaa8.com \nMay 17-19\, 2024 in Omaha\, NE \nRegistration cost: $20 \nWyndham Omaha (655 N. 108th Ave\, Omaha NE 68154)\nRoom rate: $89 \n Scholarships are available at request for those unable to pay to attend. \nWhat to expect: main speakers\, marathon meetings\, panels\, games\, workshops\, fellowship\, and more! \nHACYPAA consists of Nebraska\, Iowa\, Kansas\, Missouri\, Oklahoma\, Texas\, North Dakota\, South Dakota\, Minnesota\, & Wisconsin.
URL:https://cnia.org/event/hacypaa-viii-heartland-area-conference-of-young-people-in-aa/
CATEGORIES:YPAA Events
END:VEVENT
BEGIN:VEVENT
DTSTART;TZID=America/Los_Angeles:20240518T100000
DTEND;TZID=America/Los_Angeles:20240519T120000
DTSTAMP:20260424T024035
CREATED:20230715T194153Z
LAST-MODIFIED:20240404T185358Z
UID:10000131-1716026400-1716120000@cnia.org
SUMMARY:Post Conf Assembly in Huron\, Hosted by Dist 55 & 47
DESCRIPTION:Visit the Assembly Info page for more information and to register online. \nRegistration begins 10:00am \nAssembly begins at 12:00pm
URL:https://cnia.org/event/post-conf-assembly-d41-42-fresnooooo/
CATEGORIES:Area Assemblies
END:VEVENT
BEGIN:VEVENT
DTSTART;TZID=America/Los_Angeles:20240518T140000
DTEND;TZID=America/Los_Angeles:20240518T160000
DTSTAMP:20260424T024035
CREATED:20240517T164103Z
LAST-MODIFIED:20240517T165819Z
UID:10000361-1716040800-1716048000@cnia.org
SUMMARY:Delegate Report 74th GSC (English Only)
DESCRIPTION:Our Delegate\, Matthew\, will be giving his Delegate report this Saturday at the Post Conference Assembly from 2:00-4:00pm\, sharing about his experience at the General Service Conference this April in New York.\n\nFor those who are not able to attend\, his report will be available to watch via Zoom.  Please share with  your groups\, all are invited to attend.\n\nHere is the link as well https://us06web.zoom.us/j/98216375307#success\nPW: 244723
URL:https://cnia.org/event/delegate-report-74th-gsc/
CATEGORIES:Area Assemblies
END:VEVENT
BEGIN:VEVENT
DTSTART;TZID=America/Los_Angeles:20240525T190000
DTEND;TZID=America/Los_Angeles:20240525T220000
DTSTAMP:20260424T024035
CREATED:20240418T013035Z
LAST-MODIFIED:20240418T014552Z
UID:10000340-1716663600-1716674400@cnia.org
SUMMARY:SACYPAA Presents: Fright Night Fellowship
DESCRIPTION:2700 L St.\nSacramento\, CA\n95816
URL:https://cnia.org/event/sacypaa-presents-fright-night-fellowship/
CATEGORIES:YPAA Events
END:VEVENT
END:VCALENDAR