BEGIN:VCALENDAR
VERSION:2.0
PRODID:-//CNIA 07 - ECPv6.15.13//NONSGML v1.0//EN
CALSCALE:GREGORIAN
METHOD:PUBLISH
X-ORIGINAL-URL:https://cnia.org
X-WR-CALDESC:Events for CNIA 07
REFRESH-INTERVAL;VALUE=DURATION:PT1H
X-Robots-Tag:noindex
X-PUBLISHED-TTL:PT1H
BEGIN:VTIMEZONE
TZID:America/Los_Angeles
BEGIN:DAYLIGHT
TZOFFSETFROM:-0800
TZOFFSETTO:-0700
TZNAME:PDT
DTSTART:20230312T100000
END:DAYLIGHT
BEGIN:STANDARD
TZOFFSETFROM:-0700
TZOFFSETTO:-0800
TZNAME:PST
DTSTART:20231105T090000
END:STANDARD
BEGIN:DAYLIGHT
TZOFFSETFROM:-0800
TZOFFSETTO:-0700
TZNAME:PDT
DTSTART:20240310T100000
END:DAYLIGHT
BEGIN:STANDARD
TZOFFSETFROM:-0700
TZOFFSETTO:-0800
TZNAME:PST
DTSTART:20241103T090000
END:STANDARD
BEGIN:DAYLIGHT
TZOFFSETFROM:-0800
TZOFFSETTO:-0700
TZNAME:PDT
DTSTART:20250309T100000
END:DAYLIGHT
BEGIN:STANDARD
TZOFFSETFROM:-0700
TZOFFSETTO:-0800
TZNAME:PST
DTSTART:20251102T090000
END:STANDARD
END:VTIMEZONE
BEGIN:VEVENT
DTSTART;TZID=America/Los_Angeles:20240612T180000
DTEND;TZID=America/Los_Angeles:20240612T200000
DTSTAMP:20260419T214552
CREATED:20240531T154922Z
LAST-MODIFIED:20240531T154922Z
UID:10000363-1718215200-1718222400@cnia.org
SUMMARY:Delegate GSC Report - D25 South Sacramento
DESCRIPTION:Info to follow
URL:https://cnia.org/event/delegate-gsc-report-d25-south-sacramento/
CATEGORIES:Delegate Events
END:VEVENT
BEGIN:VEVENT
DTSTART;TZID=America/Los_Angeles:20240615T100000
DTEND;TZID=America/Los_Angeles:20240615T160000
DTSTAMP:20260419T214552
CREATED:20230715T195445Z
LAST-MODIFIED:20240921T205028Z
UID:10000139-1718445600-1718467200@cnia.org
SUMMARY:Area Committee Meeting
DESCRIPTION:Virtual Meeting Details: \nhttps://us06web.zoom.us/j/98216375307 \nMeeting ID: 982 1637 5307 \nPasscode: 244723 \nHow to Join a Virtual Meeting
URL:https://cnia.org/event/area-planning-meeting-potluck-hybrid/2024-06-15/
LOCATION:Trinity Presbyterian Church\, 1500 Park Blvd\, West Sacramento\, CA\, 95691\, United States
CATEGORIES:Area Committee Meetings
END:VEVENT
BEGIN:VEVENT
DTSTART;TZID=America/Los_Angeles:20240617T190000
DTEND;TZID=America/Los_Angeles:20240617T210000
DTSTAMP:20260419T214552
CREATED:20240531T155005Z
LAST-MODIFIED:20240531T155005Z
UID:10000364-1718650800-1718658000@cnia.org
SUMMARY:Delegate GSC Report - D37 Stockton/Manteca
DESCRIPTION:Info to follow
URL:https://cnia.org/event/delegate-gsc-report-d37-stockton-manteca/
CATEGORIES:Delegate Events
END:VEVENT
BEGIN:VEVENT
DTSTART;TZID=America/Los_Angeles:20240618T190000
DTEND;TZID=America/Los_Angeles:20240618T200000
DTSTAMP:20260419T214552
CREATED:20240615T231104Z
LAST-MODIFIED:20240626T055210Z
UID:10000455-1718737200-1718740800@cnia.org
SUMMARY:Delegate GSC Report Zoom - D27
DESCRIPTION:Zoom id: 2496365403\nPassword: district27
URL:https://cnia.org/event/delegate-gsc-report-zoom-d27/
CATEGORIES:Delegate Events
END:VEVENT
BEGIN:VEVENT
DTSTART;TZID=America/Los_Angeles:20240622T133000
DTEND;TZID=America/Los_Angeles:20240622T163000
DTSTAMP:20260419T214552
CREATED:20240611T181742Z
LAST-MODIFIED:20240611T181742Z
UID:10000391-1719063000-1719073800@cnia.org
SUMMARY:Annual 12 Traditions Workshop
DESCRIPTION:Arcade Mens Annual Traditions Workshop\nAll AA members are welcome\nPresenter: Billy N from Palm Beach Florida – Past AA Trustee\, Past 49 Delegate.\nSaturday July 22nd\n1:30pm – 4:30pm\nSierra Vista Community Church\n890 Morse Ave. Sacramento\, CA 95864
URL:https://cnia.org/event/annual-12-traditions-workshop/
CATEGORIES:Group Events
END:VEVENT
BEGIN:VEVENT
DTSTART;TZID=America/Los_Angeles:20240624T183000
DTEND;TZID=America/Los_Angeles:20240624T200000
DTSTAMP:20260419T214552
CREATED:20240615T202729Z
LAST-MODIFIED:20240615T203018Z
UID:10000393-1719253800-1719259200@cnia.org
SUMMARY:Delegate GSC Report - D29 Sacramento
DESCRIPTION:3235 Pope Ave\nSacramento\, CA 95821
URL:https://cnia.org/event/delegate-gsc-report-d29-sacramento/
CATEGORIES:Delegate Events
END:VEVENT
BEGIN:VEVENT
DTSTART;TZID=America/Los_Angeles:20240629T143000
DTEND;TZID=America/Los_Angeles:20240629T170000
DTSTAMP:20260419T214552
CREATED:20240615T223908Z
LAST-MODIFIED:20240615T223908Z
UID:10000454-1719671400-1719680400@cnia.org
SUMMARY:Delegate GSC Report Hybrid - D20 and D21 Rocklin
DESCRIPTION:Rocklin Fellowship\n6015 Pacific Ave\, Rocklin \nZoom login 223 661 3304\nPassword: District 21
URL:https://cnia.org/event/delegate-gsc-report-hybrid-d20-and-d21-rocklin/
CATEGORIES:Delegate Events
END:VEVENT
BEGIN:VEVENT
DTSTART;TZID=America/Los_Angeles:20240630T120000
DTEND;TZID=America/Los_Angeles:20240630T140000
DTSTAMP:20260419T214552
CREATED:20240531T155043Z
LAST-MODIFIED:20240531T155043Z
UID:10000365-1719748800-1719756000@cnia.org
SUMMARY:Delegate GSC Report - D53 Fresno
DESCRIPTION:Info to follow
URL:https://cnia.org/event/delegate-gsc-report-d53-fresno/
CATEGORIES:Delegate Events
END:VEVENT
END:VCALENDAR