BEGIN:VCALENDAR
VERSION:2.0
PRODID:-//CNIA 07 - ECPv6.15.13//NONSGML v1.0//EN
CALSCALE:GREGORIAN
METHOD:PUBLISH
X-ORIGINAL-URL:https://cnia.org
X-WR-CALDESC:Events for CNIA 07
REFRESH-INTERVAL;VALUE=DURATION:PT1H
X-Robots-Tag:noindex
X-PUBLISHED-TTL:PT1H
BEGIN:VTIMEZONE
TZID:America/Los_Angeles
BEGIN:DAYLIGHT
TZOFFSETFROM:-0800
TZOFFSETTO:-0700
TZNAME:PDT
DTSTART:20220313T100000
END:DAYLIGHT
BEGIN:STANDARD
TZOFFSETFROM:-0700
TZOFFSETTO:-0800
TZNAME:PST
DTSTART:20221106T090000
END:STANDARD
BEGIN:DAYLIGHT
TZOFFSETFROM:-0800
TZOFFSETTO:-0700
TZNAME:PDT
DTSTART:20230312T100000
END:DAYLIGHT
BEGIN:STANDARD
TZOFFSETFROM:-0700
TZOFFSETTO:-0800
TZNAME:PST
DTSTART:20231105T090000
END:STANDARD
BEGIN:DAYLIGHT
TZOFFSETFROM:-0800
TZOFFSETTO:-0700
TZNAME:PDT
DTSTART:20240310T100000
END:DAYLIGHT
BEGIN:STANDARD
TZOFFSETFROM:-0700
TZOFFSETTO:-0800
TZNAME:PST
DTSTART:20241103T090000
END:STANDARD
END:VTIMEZONE
BEGIN:VEVENT
DTSTART;TZID=America/Los_Angeles:20230225T100000
DTEND;TZID=America/Los_Angeles:20230225T160000
DTSTAMP:20260419T061759
CREATED:20230210T012029Z
LAST-MODIFIED:20230224T194744Z
UID:10000075-1677319200-1677340800@cnia.org
SUMMARY:District 15 Mock Conference (Paradise)
DESCRIPTION:ADDRESS CHANGE FRIDAY FEB 24: Due to snow\, now at Open Door Church in Oroville. 2555 Baldwin Ave.\nSee flyer for more details.
URL:https://cnia.org/event/district-15-mock-conference-paradise/
LOCATION:Paradise Methodist Church\, 6722 Clark Rd\, Paradise\, CA\, 95969
CATEGORIES:Delegate Events
END:VEVENT
BEGIN:VEVENT
DTSTART;TZID=America/Los_Angeles:20230226T133000
DTEND;TZID=America/Los_Angeles:20230226T153000
DTSTAMP:20260419T061759
CREATED:20230210T012117Z
LAST-MODIFIED:20230219T192620Z
UID:10000076-1677418200-1677425400@cnia.org
SUMMARY:District 37 Agenda Workshop
DESCRIPTION:
URL:https://cnia.org/event/district-37-agenda-workshop/
LOCATION:Porter Group\, 5918 Pacific Ave.\, Stockton\, CA\, 95201
CATEGORIES:Delegate Events
END:VEVENT
END:VCALENDAR